BEGIN:VCALENDAR
VERSION:2.0
PRODID:-//Peace Lutheran Church - ECPv6.15.20//NONSGML v1.0//EN
CALSCALE:GREGORIAN
METHOD:PUBLISH
X-ORIGINAL-URL:https://plchutch.org
X-WR-CALDESC:Events for Peace Lutheran Church
REFRESH-INTERVAL;VALUE=DURATION:PT1H
X-Robots-Tag:noindex
X-PUBLISHED-TTL:PT1H
BEGIN:VTIMEZONE
TZID:America/Chicago
BEGIN:DAYLIGHT
TZOFFSETFROM:-0600
TZOFFSETTO:-0500
TZNAME:CDT
DTSTART:20240310T080000
END:DAYLIGHT
BEGIN:STANDARD
TZOFFSETFROM:-0500
TZOFFSETTO:-0600
TZNAME:CST
DTSTART:20241103T070000
END:STANDARD
BEGIN:DAYLIGHT
TZOFFSETFROM:-0600
TZOFFSETTO:-0500
TZNAME:CDT
DTSTART:20250309T080000
END:DAYLIGHT
BEGIN:STANDARD
TZOFFSETFROM:-0500
TZOFFSETTO:-0600
TZNAME:CST
DTSTART:20251102T070000
END:STANDARD
BEGIN:DAYLIGHT
TZOFFSETFROM:-0600
TZOFFSETTO:-0500
TZNAME:CDT
DTSTART:20260308T080000
END:DAYLIGHT
BEGIN:STANDARD
TZOFFSETFROM:-0500
TZOFFSETTO:-0600
TZNAME:CST
DTSTART:20261101T070000
END:STANDARD
END:VTIMEZONE
BEGIN:VEVENT
DTSTART;VALUE=DATE:20250309
DTEND;VALUE=DATE:20250310
DTSTAMP:20260420T161529
CREATED:20250222T191344Z
LAST-MODIFIED:20250222T191344Z
UID:10032506-1741478400-1741564799@plchutch.org
SUMMARY:1st Sunday in Lent
DESCRIPTION:
URL:https://plchutch.org/event/1st-sunday-in-lent/
LOCATION:Peace Lutheran Church\, 400 Franklin St. SW\, Hutchinson\, MN\, 55350\, United States
GEO:44.8873168;-94.3713681
X-APPLE-STRUCTURED-LOCATION;VALUE=URI;X-ADDRESS=Peace Lutheran Church 400 Franklin St. SW Hutchinson MN 55350 United States;X-APPLE-RADIUS=500;X-TITLE=400 Franklin St. SW:geo:-94.3713681,44.8873168
END:VEVENT
BEGIN:VEVENT
DTSTART;TZID=America/Chicago:20250309T093000
DTEND;TZID=America/Chicago:20250309T103000
DTSTAMP:20260420T161529
CREATED:20241220T174927Z
LAST-MODIFIED:20250407T142839Z
UID:10032482-1741512600-1741516200@plchutch.org
SUMMARY:9:40 Adult Bible Study
DESCRIPTION:
URL:https://plchutch.org/event/940-adult-bible-study-4/2025-03-09/
LOCATION:Peace Lutheran Church\, 400 Franklin St. SW\, Hutchinson\, MN\, 55350\, United States
GEO:44.8873168;-94.3713681
X-APPLE-STRUCTURED-LOCATION;VALUE=URI;X-ADDRESS=Peace Lutheran Church 400 Franklin St. SW Hutchinson MN 55350 United States;X-APPLE-RADIUS=500;X-TITLE=400 Franklin St. SW:geo:-94.3713681,44.8873168
END:VEVENT
BEGIN:VEVENT
DTSTART;TZID=America/Chicago:20250309T094000
DTEND;TZID=America/Chicago:20250309T102000
DTSTAMP:20260420T161529
CREATED:20250222T203957Z
LAST-MODIFIED:20250424T035521Z
UID:10032518-1741513200-1741515600@plchutch.org
SUMMARY:9:40 Sunday School
DESCRIPTION:
URL:https://plchutch.org/event/940-sunday-school-2/2025-03-09/
LOCATION:Peace Lutheran Church\, 400 Franklin St. SW\, Hutchinson\, MN\, 55350\, United States
GEO:44.8873168;-94.3713681
X-APPLE-STRUCTURED-LOCATION;VALUE=URI;X-ADDRESS=Peace Lutheran Church 400 Franklin St. SW Hutchinson MN 55350 United States;X-APPLE-RADIUS=500;X-TITLE=400 Franklin St. SW:geo:-94.3713681,44.8873168
END:VEVENT
BEGIN:VEVENT
DTSTART;TZID=America/Chicago:20250309T103000
DTEND;TZID=America/Chicago:20250309T113000
DTSTAMP:20260420T161529
CREATED:20241220T171019Z
LAST-MODIFIED:20250126T233829Z
UID:10032457-1741516200-1741519800@plchutch.org
SUMMARY:10:30 Worship w/Communion
DESCRIPTION:
URL:https://plchutch.org/event/1030-worship-w-communion-39/2025-03-09/
LOCATION:Peace Lutheran Church\, 400 Franklin St. SW\, Hutchinson\, MN\, 55350\, United States
CATEGORIES:Adult Ministry,Featured Events,Public Event,Worship
GEO:44.8873168;-94.3713681
X-APPLE-STRUCTURED-LOCATION;VALUE=URI;X-ADDRESS=Peace Lutheran Church 400 Franklin St. SW Hutchinson MN 55350 United States;X-APPLE-RADIUS=500;X-TITLE=400 Franklin St. SW:geo:-94.3713681,44.8873168
END:VEVENT
END:VCALENDAR