BEGIN:VCALENDAR
VERSION:2.0
PRODID:-//Peace Lutheran Church - ECPv6.15.20//NONSGML v1.0//EN
CALSCALE:GREGORIAN
METHOD:PUBLISH
X-ORIGINAL-URL:https://plchutch.org
X-WR-CALDESC:Events for Peace Lutheran Church
REFRESH-INTERVAL;VALUE=DURATION:PT1H
X-Robots-Tag:noindex
X-PUBLISHED-TTL:PT1H
BEGIN:VTIMEZONE
TZID:America/Chicago
BEGIN:DAYLIGHT
TZOFFSETFROM:-0600
TZOFFSETTO:-0500
TZNAME:CDT
DTSTART:20280312T080000
END:DAYLIGHT
BEGIN:STANDARD
TZOFFSETFROM:-0500
TZOFFSETTO:-0600
TZNAME:CST
DTSTART:20281105T070000
END:STANDARD
BEGIN:DAYLIGHT
TZOFFSETFROM:-0600
TZOFFSETTO:-0500
TZNAME:CDT
DTSTART:20290311T080000
END:DAYLIGHT
BEGIN:STANDARD
TZOFFSETFROM:-0500
TZOFFSETTO:-0600
TZNAME:CST
DTSTART:20291104T070000
END:STANDARD
BEGIN:DAYLIGHT
TZOFFSETFROM:-0600
TZOFFSETTO:-0500
TZNAME:CDT
DTSTART:20300310T080000
END:DAYLIGHT
BEGIN:STANDARD
TZOFFSETFROM:-0500
TZOFFSETTO:-0600
TZNAME:CST
DTSTART:20301103T070000
END:STANDARD
BEGIN:DAYLIGHT
TZOFFSETFROM:-0600
TZOFFSETTO:-0500
TZNAME:CDT
DTSTART:20310309T080000
END:DAYLIGHT
BEGIN:STANDARD
TZOFFSETFROM:-0500
TZOFFSETTO:-0600
TZNAME:CST
DTSTART:20311102T070000
END:STANDARD
BEGIN:DAYLIGHT
TZOFFSETFROM:-0600
TZOFFSETTO:-0500
TZNAME:CDT
DTSTART:20320314T080000
END:DAYLIGHT
BEGIN:STANDARD
TZOFFSETFROM:-0500
TZOFFSETTO:-0600
TZNAME:CST
DTSTART:20321107T070000
END:STANDARD
END:VTIMEZONE
BEGIN:VEVENT
DTSTART;TZID=America/Chicago:20291113T183000
DTEND;TZID=America/Chicago:20291113T210000
DTSTAMP:20260421T081737
CREATED:20250802T172514Z
LAST-MODIFIED:20250802T193650Z
UID:10033001-1889289000-1889298000@plchutch.org
SUMMARY:6:30 Church Council
DESCRIPTION:
URL:https://plchutch.org/event/700-church-council-3/2029-11-13/
LOCATION:Peace Lutheran Church\, 400 Franklin St. SW\, Hutchinson\, MN\, 55350\, United States
CATEGORIES:Private Event
GEO:44.8873168;-94.3713681
X-APPLE-STRUCTURED-LOCATION;VALUE=URI;X-ADDRESS=Peace Lutheran Church 400 Franklin St. SW Hutchinson MN 55350 United States;X-APPLE-RADIUS=500;X-TITLE=400 Franklin St. SW:geo:-94.3713681,44.8873168
END:VEVENT
BEGIN:VEVENT
DTSTART;TZID=America/Chicago:20291113T183000
DTEND;TZID=America/Chicago:20291113T210000
DTSTAMP:20260421T081737
CREATED:20250802T193540Z
LAST-MODIFIED:20250802T193541Z
UID:10032942-1889289000-1889298000@plchutch.org
SUMMARY:6:30 Church Council
DESCRIPTION:
URL:https://plchutch.org/event/700-church-council-3-2/2029-11-13/
LOCATION:Peace Lutheran Church\, 400 Franklin St. SW\, Hutchinson\, MN\, 55350\, United States
CATEGORIES:Private Event
GEO:44.8873168;-94.3713681
X-APPLE-STRUCTURED-LOCATION;VALUE=URI;X-ADDRESS=Peace Lutheran Church 400 Franklin St. SW Hutchinson MN 55350 United States;X-APPLE-RADIUS=500;X-TITLE=400 Franklin St. SW:geo:-94.3713681,44.8873168
END:VEVENT
BEGIN:VEVENT
DTSTART;TZID=America/Chicago:20291211T183000
DTEND;TZID=America/Chicago:20291211T210000
DTSTAMP:20260421T081737
CREATED:20250802T172514Z
LAST-MODIFIED:20250802T193650Z
UID:10033002-1891708200-1891717200@plchutch.org
SUMMARY:6:30 Church Council
DESCRIPTION:
URL:https://plchutch.org/event/700-church-council-3/2029-12-11/
LOCATION:Peace Lutheran Church\, 400 Franklin St. SW\, Hutchinson\, MN\, 55350\, United States
CATEGORIES:Private Event
GEO:44.8873168;-94.3713681
X-APPLE-STRUCTURED-LOCATION;VALUE=URI;X-ADDRESS=Peace Lutheran Church 400 Franklin St. SW Hutchinson MN 55350 United States;X-APPLE-RADIUS=500;X-TITLE=400 Franklin St. SW:geo:-94.3713681,44.8873168
END:VEVENT
BEGIN:VEVENT
DTSTART;TZID=America/Chicago:20291211T183000
DTEND;TZID=America/Chicago:20291211T210000
DTSTAMP:20260421T081737
CREATED:20250802T193540Z
LAST-MODIFIED:20250802T193541Z
UID:10032943-1891708200-1891717200@plchutch.org
SUMMARY:6:30 Church Council
DESCRIPTION:
URL:https://plchutch.org/event/700-church-council-3-2/2029-12-11/
LOCATION:Peace Lutheran Church\, 400 Franklin St. SW\, Hutchinson\, MN\, 55350\, United States
CATEGORIES:Private Event
GEO:44.8873168;-94.3713681
X-APPLE-STRUCTURED-LOCATION;VALUE=URI;X-ADDRESS=Peace Lutheran Church 400 Franklin St. SW Hutchinson MN 55350 United States;X-APPLE-RADIUS=500;X-TITLE=400 Franklin St. SW:geo:-94.3713681,44.8873168
END:VEVENT
BEGIN:VEVENT
DTSTART;TZID=America/Chicago:20300108T183000
DTEND;TZID=America/Chicago:20300108T210000
DTSTAMP:20260421T081737
CREATED:20250802T172514Z
LAST-MODIFIED:20250802T193650Z
UID:10033003-1894127400-1894136400@plchutch.org
SUMMARY:6:30 Church Council
DESCRIPTION:
URL:https://plchutch.org/event/700-church-council-3/2030-01-08/
LOCATION:Peace Lutheran Church\, 400 Franklin St. SW\, Hutchinson\, MN\, 55350\, United States
CATEGORIES:Private Event
GEO:44.8873168;-94.3713681
X-APPLE-STRUCTURED-LOCATION;VALUE=URI;X-ADDRESS=Peace Lutheran Church 400 Franklin St. SW Hutchinson MN 55350 United States;X-APPLE-RADIUS=500;X-TITLE=400 Franklin St. SW:geo:-94.3713681,44.8873168
END:VEVENT
BEGIN:VEVENT
DTSTART;TZID=America/Chicago:20300108T183000
DTEND;TZID=America/Chicago:20300108T210000
DTSTAMP:20260421T081737
CREATED:20250802T193540Z
LAST-MODIFIED:20250802T193541Z
UID:10032944-1894127400-1894136400@plchutch.org
SUMMARY:6:30 Church Council
DESCRIPTION:
URL:https://plchutch.org/event/700-church-council-3-2/2030-01-08/
LOCATION:Peace Lutheran Church\, 400 Franklin St. SW\, Hutchinson\, MN\, 55350\, United States
CATEGORIES:Private Event
GEO:44.8873168;-94.3713681
X-APPLE-STRUCTURED-LOCATION;VALUE=URI;X-ADDRESS=Peace Lutheran Church 400 Franklin St. SW Hutchinson MN 55350 United States;X-APPLE-RADIUS=500;X-TITLE=400 Franklin St. SW:geo:-94.3713681,44.8873168
END:VEVENT
BEGIN:VEVENT
DTSTART;TZID=America/Chicago:20300212T183000
DTEND;TZID=America/Chicago:20300212T210000
DTSTAMP:20260421T081737
CREATED:20250802T172514Z
LAST-MODIFIED:20250802T193650Z
UID:10033004-1897151400-1897160400@plchutch.org
SUMMARY:6:30 Church Council
DESCRIPTION:
URL:https://plchutch.org/event/700-church-council-3/2030-02-12/
LOCATION:Peace Lutheran Church\, 400 Franklin St. SW\, Hutchinson\, MN\, 55350\, United States
CATEGORIES:Private Event
GEO:44.8873168;-94.3713681
X-APPLE-STRUCTURED-LOCATION;VALUE=URI;X-ADDRESS=Peace Lutheran Church 400 Franklin St. SW Hutchinson MN 55350 United States;X-APPLE-RADIUS=500;X-TITLE=400 Franklin St. SW:geo:-94.3713681,44.8873168
END:VEVENT
BEGIN:VEVENT
DTSTART;TZID=America/Chicago:20300212T183000
DTEND;TZID=America/Chicago:20300212T210000
DTSTAMP:20260421T081737
CREATED:20250802T193540Z
LAST-MODIFIED:20250802T193541Z
UID:10032945-1897151400-1897160400@plchutch.org
SUMMARY:6:30 Church Council
DESCRIPTION:
URL:https://plchutch.org/event/700-church-council-3-2/2030-02-12/
LOCATION:Peace Lutheran Church\, 400 Franklin St. SW\, Hutchinson\, MN\, 55350\, United States
CATEGORIES:Private Event
GEO:44.8873168;-94.3713681
X-APPLE-STRUCTURED-LOCATION;VALUE=URI;X-ADDRESS=Peace Lutheran Church 400 Franklin St. SW Hutchinson MN 55350 United States;X-APPLE-RADIUS=500;X-TITLE=400 Franklin St. SW:geo:-94.3713681,44.8873168
END:VEVENT
BEGIN:VEVENT
DTSTART;TZID=America/Chicago:20300312T183000
DTEND;TZID=America/Chicago:20300312T210000
DTSTAMP:20260421T081737
CREATED:20250802T172514Z
LAST-MODIFIED:20250802T193650Z
UID:10033005-1899570600-1899579600@plchutch.org
SUMMARY:6:30 Church Council
DESCRIPTION:
URL:https://plchutch.org/event/700-church-council-3/2030-03-12/
LOCATION:Peace Lutheran Church\, 400 Franklin St. SW\, Hutchinson\, MN\, 55350\, United States
CATEGORIES:Private Event
GEO:44.8873168;-94.3713681
X-APPLE-STRUCTURED-LOCATION;VALUE=URI;X-ADDRESS=Peace Lutheran Church 400 Franklin St. SW Hutchinson MN 55350 United States;X-APPLE-RADIUS=500;X-TITLE=400 Franklin St. SW:geo:-94.3713681,44.8873168
END:VEVENT
BEGIN:VEVENT
DTSTART;TZID=America/Chicago:20300312T183000
DTEND;TZID=America/Chicago:20300312T210000
DTSTAMP:20260421T081737
CREATED:20250802T193540Z
LAST-MODIFIED:20250802T193541Z
UID:10032946-1899570600-1899579600@plchutch.org
SUMMARY:6:30 Church Council
DESCRIPTION:
URL:https://plchutch.org/event/700-church-council-3-2/2030-03-12/
LOCATION:Peace Lutheran Church\, 400 Franklin St. SW\, Hutchinson\, MN\, 55350\, United States
CATEGORIES:Private Event
GEO:44.8873168;-94.3713681
X-APPLE-STRUCTURED-LOCATION;VALUE=URI;X-ADDRESS=Peace Lutheran Church 400 Franklin St. SW Hutchinson MN 55350 United States;X-APPLE-RADIUS=500;X-TITLE=400 Franklin St. SW:geo:-94.3713681,44.8873168
END:VEVENT
BEGIN:VEVENT
DTSTART;TZID=America/Chicago:20300409T183000
DTEND;TZID=America/Chicago:20300409T210000
DTSTAMP:20260421T081737
CREATED:20250802T172514Z
LAST-MODIFIED:20250802T193650Z
UID:10033006-1901989800-1901998800@plchutch.org
SUMMARY:6:30 Church Council
DESCRIPTION:
URL:https://plchutch.org/event/700-church-council-3/2030-04-09/
LOCATION:Peace Lutheran Church\, 400 Franklin St. SW\, Hutchinson\, MN\, 55350\, United States
CATEGORIES:Private Event
GEO:44.8873168;-94.3713681
X-APPLE-STRUCTURED-LOCATION;VALUE=URI;X-ADDRESS=Peace Lutheran Church 400 Franklin St. SW Hutchinson MN 55350 United States;X-APPLE-RADIUS=500;X-TITLE=400 Franklin St. SW:geo:-94.3713681,44.8873168
END:VEVENT
BEGIN:VEVENT
DTSTART;TZID=America/Chicago:20300409T183000
DTEND;TZID=America/Chicago:20300409T210000
DTSTAMP:20260421T081737
CREATED:20250802T193540Z
LAST-MODIFIED:20250802T193541Z
UID:10032947-1901989800-1901998800@plchutch.org
SUMMARY:6:30 Church Council
DESCRIPTION:
URL:https://plchutch.org/event/700-church-council-3-2/2030-04-09/
LOCATION:Peace Lutheran Church\, 400 Franklin St. SW\, Hutchinson\, MN\, 55350\, United States
CATEGORIES:Private Event
GEO:44.8873168;-94.3713681
X-APPLE-STRUCTURED-LOCATION;VALUE=URI;X-ADDRESS=Peace Lutheran Church 400 Franklin St. SW Hutchinson MN 55350 United States;X-APPLE-RADIUS=500;X-TITLE=400 Franklin St. SW:geo:-94.3713681,44.8873168
END:VEVENT
BEGIN:VEVENT
DTSTART;TZID=America/Chicago:20300514T183000
DTEND;TZID=America/Chicago:20300514T210000
DTSTAMP:20260421T081738
CREATED:20250802T172514Z
LAST-MODIFIED:20250802T193650Z
UID:10033007-1905013800-1905022800@plchutch.org
SUMMARY:6:30 Church Council
DESCRIPTION:
URL:https://plchutch.org/event/700-church-council-3/2030-05-14/
LOCATION:Peace Lutheran Church\, 400 Franklin St. SW\, Hutchinson\, MN\, 55350\, United States
CATEGORIES:Private Event
GEO:44.8873168;-94.3713681
X-APPLE-STRUCTURED-LOCATION;VALUE=URI;X-ADDRESS=Peace Lutheran Church 400 Franklin St. SW Hutchinson MN 55350 United States;X-APPLE-RADIUS=500;X-TITLE=400 Franklin St. SW:geo:-94.3713681,44.8873168
END:VEVENT
BEGIN:VEVENT
DTSTART;TZID=America/Chicago:20300514T183000
DTEND;TZID=America/Chicago:20300514T210000
DTSTAMP:20260421T081738
CREATED:20250802T193540Z
LAST-MODIFIED:20250802T193541Z
UID:10032948-1905013800-1905022800@plchutch.org
SUMMARY:6:30 Church Council
DESCRIPTION:
URL:https://plchutch.org/event/700-church-council-3-2/2030-05-14/
LOCATION:Peace Lutheran Church\, 400 Franklin St. SW\, Hutchinson\, MN\, 55350\, United States
CATEGORIES:Private Event
GEO:44.8873168;-94.3713681
X-APPLE-STRUCTURED-LOCATION;VALUE=URI;X-ADDRESS=Peace Lutheran Church 400 Franklin St. SW Hutchinson MN 55350 United States;X-APPLE-RADIUS=500;X-TITLE=400 Franklin St. SW:geo:-94.3713681,44.8873168
END:VEVENT
BEGIN:VEVENT
DTSTART;TZID=America/Chicago:20300611T183000
DTEND;TZID=America/Chicago:20300611T210000
DTSTAMP:20260421T081738
CREATED:20250802T172514Z
LAST-MODIFIED:20250802T193650Z
UID:10033008-1907433000-1907442000@plchutch.org
SUMMARY:6:30 Church Council
DESCRIPTION:
URL:https://plchutch.org/event/700-church-council-3/2030-06-11/
LOCATION:Peace Lutheran Church\, 400 Franklin St. SW\, Hutchinson\, MN\, 55350\, United States
CATEGORIES:Private Event
GEO:44.8873168;-94.3713681
X-APPLE-STRUCTURED-LOCATION;VALUE=URI;X-ADDRESS=Peace Lutheran Church 400 Franklin St. SW Hutchinson MN 55350 United States;X-APPLE-RADIUS=500;X-TITLE=400 Franklin St. SW:geo:-94.3713681,44.8873168
END:VEVENT
BEGIN:VEVENT
DTSTART;TZID=America/Chicago:20300611T183000
DTEND;TZID=America/Chicago:20300611T210000
DTSTAMP:20260421T081738
CREATED:20250802T193540Z
LAST-MODIFIED:20250802T193541Z
UID:10032949-1907433000-1907442000@plchutch.org
SUMMARY:6:30 Church Council
DESCRIPTION:
URL:https://plchutch.org/event/700-church-council-3-2/2030-06-11/
LOCATION:Peace Lutheran Church\, 400 Franklin St. SW\, Hutchinson\, MN\, 55350\, United States
CATEGORIES:Private Event
GEO:44.8873168;-94.3713681
X-APPLE-STRUCTURED-LOCATION;VALUE=URI;X-ADDRESS=Peace Lutheran Church 400 Franklin St. SW Hutchinson MN 55350 United States;X-APPLE-RADIUS=500;X-TITLE=400 Franklin St. SW:geo:-94.3713681,44.8873168
END:VEVENT
BEGIN:VEVENT
DTSTART;TZID=America/Chicago:20300709T183000
DTEND;TZID=America/Chicago:20300709T210000
DTSTAMP:20260421T081738
CREATED:20250802T172514Z
LAST-MODIFIED:20250802T193650Z
UID:10033009-1909852200-1909861200@plchutch.org
SUMMARY:6:30 Church Council
DESCRIPTION:
URL:https://plchutch.org/event/700-church-council-3/2030-07-09/
LOCATION:Peace Lutheran Church\, 400 Franklin St. SW\, Hutchinson\, MN\, 55350\, United States
CATEGORIES:Private Event
GEO:44.8873168;-94.3713681
X-APPLE-STRUCTURED-LOCATION;VALUE=URI;X-ADDRESS=Peace Lutheran Church 400 Franklin St. SW Hutchinson MN 55350 United States;X-APPLE-RADIUS=500;X-TITLE=400 Franklin St. SW:geo:-94.3713681,44.8873168
END:VEVENT
BEGIN:VEVENT
DTSTART;TZID=America/Chicago:20300709T183000
DTEND;TZID=America/Chicago:20300709T210000
DTSTAMP:20260421T081738
CREATED:20250802T193540Z
LAST-MODIFIED:20250802T193541Z
UID:10032950-1909852200-1909861200@plchutch.org
SUMMARY:6:30 Church Council
DESCRIPTION:
URL:https://plchutch.org/event/700-church-council-3-2/2030-07-09/
LOCATION:Peace Lutheran Church\, 400 Franklin St. SW\, Hutchinson\, MN\, 55350\, United States
CATEGORIES:Private Event
GEO:44.8873168;-94.3713681
X-APPLE-STRUCTURED-LOCATION;VALUE=URI;X-ADDRESS=Peace Lutheran Church 400 Franklin St. SW Hutchinson MN 55350 United States;X-APPLE-RADIUS=500;X-TITLE=400 Franklin St. SW:geo:-94.3713681,44.8873168
END:VEVENT
BEGIN:VEVENT
DTSTART;TZID=America/Chicago:20300813T183000
DTEND;TZID=America/Chicago:20300813T210000
DTSTAMP:20260421T081738
CREATED:20250802T172514Z
LAST-MODIFIED:20250802T193650Z
UID:10033174-1912876200-1912885200@plchutch.org
SUMMARY:6:30 Church Council
DESCRIPTION:
URL:https://plchutch.org/event/700-church-council-3/2030-08-13/
LOCATION:Peace Lutheran Church\, 400 Franklin St. SW\, Hutchinson\, MN\, 55350\, United States
CATEGORIES:Private Event
GEO:44.8873168;-94.3713681
X-APPLE-STRUCTURED-LOCATION;VALUE=URI;X-ADDRESS=Peace Lutheran Church 400 Franklin St. SW Hutchinson MN 55350 United States;X-APPLE-RADIUS=500;X-TITLE=400 Franklin St. SW:geo:-94.3713681,44.8873168
END:VEVENT
BEGIN:VEVENT
DTSTART;TZID=America/Chicago:20300813T183000
DTEND;TZID=America/Chicago:20300813T210000
DTSTAMP:20260421T081738
CREATED:20250802T193540Z
LAST-MODIFIED:20250802T193541Z
UID:10033176-1912876200-1912885200@plchutch.org
SUMMARY:6:30 Church Council
DESCRIPTION:
URL:https://plchutch.org/event/700-church-council-3-2/2030-08-13/
LOCATION:Peace Lutheran Church\, 400 Franklin St. SW\, Hutchinson\, MN\, 55350\, United States
CATEGORIES:Private Event
GEO:44.8873168;-94.3713681
X-APPLE-STRUCTURED-LOCATION;VALUE=URI;X-ADDRESS=Peace Lutheran Church 400 Franklin St. SW Hutchinson MN 55350 United States;X-APPLE-RADIUS=500;X-TITLE=400 Franklin St. SW:geo:-94.3713681,44.8873168
END:VEVENT
BEGIN:VEVENT
DTSTART;TZID=America/Chicago:20300910T183000
DTEND;TZID=America/Chicago:20300910T210000
DTSTAMP:20260421T081738
CREATED:20250802T172514Z
LAST-MODIFIED:20250802T193650Z
UID:10033175-1915295400-1915304400@plchutch.org
SUMMARY:6:30 Church Council
DESCRIPTION:
URL:https://plchutch.org/event/700-church-council-3/2030-09-10/
LOCATION:Peace Lutheran Church\, 400 Franklin St. SW\, Hutchinson\, MN\, 55350\, United States
CATEGORIES:Private Event
GEO:44.8873168;-94.3713681
X-APPLE-STRUCTURED-LOCATION;VALUE=URI;X-ADDRESS=Peace Lutheran Church 400 Franklin St. SW Hutchinson MN 55350 United States;X-APPLE-RADIUS=500;X-TITLE=400 Franklin St. SW:geo:-94.3713681,44.8873168
END:VEVENT
BEGIN:VEVENT
DTSTART;TZID=America/Chicago:20300910T183000
DTEND;TZID=America/Chicago:20300910T210000
DTSTAMP:20260421T081738
CREATED:20250802T193540Z
LAST-MODIFIED:20250802T193541Z
UID:10033177-1915295400-1915304400@plchutch.org
SUMMARY:6:30 Church Council
DESCRIPTION:
URL:https://plchutch.org/event/700-church-council-3-2/2030-09-10/
LOCATION:Peace Lutheran Church\, 400 Franklin St. SW\, Hutchinson\, MN\, 55350\, United States
CATEGORIES:Private Event
GEO:44.8873168;-94.3713681
X-APPLE-STRUCTURED-LOCATION;VALUE=URI;X-ADDRESS=Peace Lutheran Church 400 Franklin St. SW Hutchinson MN 55350 United States;X-APPLE-RADIUS=500;X-TITLE=400 Franklin St. SW:geo:-94.3713681,44.8873168
END:VEVENT
BEGIN:VEVENT
DTSTART;TZID=America/Chicago:20301008T183000
DTEND;TZID=America/Chicago:20301008T210000
DTSTAMP:20260421T081738
CREATED:20250802T172514Z
LAST-MODIFIED:20250802T193650Z
UID:10033776-1917714600-1917723600@plchutch.org
SUMMARY:6:30 Church Council
DESCRIPTION:
URL:https://plchutch.org/event/700-church-council-3/2030-10-08/
LOCATION:Peace Lutheran Church\, 400 Franklin St. SW\, Hutchinson\, MN\, 55350\, United States
CATEGORIES:Private Event
GEO:44.8873168;-94.3713681
X-APPLE-STRUCTURED-LOCATION;VALUE=URI;X-ADDRESS=Peace Lutheran Church 400 Franklin St. SW Hutchinson MN 55350 United States;X-APPLE-RADIUS=500;X-TITLE=400 Franklin St. SW:geo:-94.3713681,44.8873168
END:VEVENT
BEGIN:VEVENT
DTSTART;TZID=America/Chicago:20301112T183000
DTEND;TZID=America/Chicago:20301112T210000
DTSTAMP:20260421T081738
CREATED:20250802T172514Z
LAST-MODIFIED:20250802T193650Z
UID:10033777-1920738600-1920747600@plchutch.org
SUMMARY:6:30 Church Council
DESCRIPTION:
URL:https://plchutch.org/event/700-church-council-3/2030-11-12/
LOCATION:Peace Lutheran Church\, 400 Franklin St. SW\, Hutchinson\, MN\, 55350\, United States
CATEGORIES:Private Event
GEO:44.8873168;-94.3713681
X-APPLE-STRUCTURED-LOCATION;VALUE=URI;X-ADDRESS=Peace Lutheran Church 400 Franklin St. SW Hutchinson MN 55350 United States;X-APPLE-RADIUS=500;X-TITLE=400 Franklin St. SW:geo:-94.3713681,44.8873168
END:VEVENT
BEGIN:VEVENT
DTSTART;TZID=America/Chicago:20301210T183000
DTEND;TZID=America/Chicago:20301210T210000
DTSTAMP:20260421T081738
CREATED:20250802T172514Z
LAST-MODIFIED:20250802T193650Z
UID:10033778-1923157800-1923166800@plchutch.org
SUMMARY:6:30 Church Council
DESCRIPTION:
URL:https://plchutch.org/event/700-church-council-3/2030-12-10/
LOCATION:Peace Lutheran Church\, 400 Franklin St. SW\, Hutchinson\, MN\, 55350\, United States
CATEGORIES:Private Event
GEO:44.8873168;-94.3713681
X-APPLE-STRUCTURED-LOCATION;VALUE=URI;X-ADDRESS=Peace Lutheran Church 400 Franklin St. SW Hutchinson MN 55350 United States;X-APPLE-RADIUS=500;X-TITLE=400 Franklin St. SW:geo:-94.3713681,44.8873168
END:VEVENT
BEGIN:VEVENT
DTSTART;TZID=America/Chicago:20310114T183000
DTEND;TZID=America/Chicago:20310114T210000
DTSTAMP:20260421T081738
CREATED:20250802T172514Z
LAST-MODIFIED:20250802T193650Z
UID:10033779-1926181800-1926190800@plchutch.org
SUMMARY:6:30 Church Council
DESCRIPTION:
URL:https://plchutch.org/event/700-church-council-3/2031-01-14/
LOCATION:Peace Lutheran Church\, 400 Franklin St. SW\, Hutchinson\, MN\, 55350\, United States
CATEGORIES:Private Event
GEO:44.8873168;-94.3713681
X-APPLE-STRUCTURED-LOCATION;VALUE=URI;X-ADDRESS=Peace Lutheran Church 400 Franklin St. SW Hutchinson MN 55350 United States;X-APPLE-RADIUS=500;X-TITLE=400 Franklin St. SW:geo:-94.3713681,44.8873168
END:VEVENT
BEGIN:VEVENT
DTSTART;TZID=America/Chicago:20310211T183000
DTEND;TZID=America/Chicago:20310211T210000
DTSTAMP:20260421T081738
CREATED:20250802T172514Z
LAST-MODIFIED:20250802T193650Z
UID:10033780-1928601000-1928610000@plchutch.org
SUMMARY:6:30 Church Council
DESCRIPTION:
URL:https://plchutch.org/event/700-church-council-3/2031-02-11/
LOCATION:Peace Lutheran Church\, 400 Franklin St. SW\, Hutchinson\, MN\, 55350\, United States
CATEGORIES:Private Event
GEO:44.8873168;-94.3713681
X-APPLE-STRUCTURED-LOCATION;VALUE=URI;X-ADDRESS=Peace Lutheran Church 400 Franklin St. SW Hutchinson MN 55350 United States;X-APPLE-RADIUS=500;X-TITLE=400 Franklin St. SW:geo:-94.3713681,44.8873168
END:VEVENT
BEGIN:VEVENT
DTSTART;TZID=America/Chicago:20310311T183000
DTEND;TZID=America/Chicago:20310311T210000
DTSTAMP:20260421T081738
CREATED:20250802T172514Z
LAST-MODIFIED:20250802T193650Z
UID:10033840-1931020200-1931029200@plchutch.org
SUMMARY:6:30 Church Council
DESCRIPTION:
URL:https://plchutch.org/event/700-church-council-3/2031-03-11/
LOCATION:Peace Lutheran Church\, 400 Franklin St. SW\, Hutchinson\, MN\, 55350\, United States
CATEGORIES:Private Event
GEO:44.8873168;-94.3713681
X-APPLE-STRUCTURED-LOCATION;VALUE=URI;X-ADDRESS=Peace Lutheran Church 400 Franklin St. SW Hutchinson MN 55350 United States;X-APPLE-RADIUS=500;X-TITLE=400 Franklin St. SW:geo:-94.3713681,44.8873168
END:VEVENT
END:VCALENDAR