BEGIN:VCALENDAR
VERSION:2.0
PRODID:-//Peace Lutheran Church - ECPv6.15.20//NONSGML v1.0//EN
CALSCALE:GREGORIAN
METHOD:PUBLISH
X-ORIGINAL-URL:https://plchutch.org
X-WR-CALDESC:Events for Peace Lutheran Church
REFRESH-INTERVAL;VALUE=DURATION:PT1H
X-Robots-Tag:noindex
X-PUBLISHED-TTL:PT1H
BEGIN:VTIMEZONE
TZID:America/Chicago
BEGIN:DAYLIGHT
TZOFFSETFROM:-0600
TZOFFSETTO:-0500
TZNAME:CDT
DTSTART:20250309T080000
END:DAYLIGHT
BEGIN:STANDARD
TZOFFSETFROM:-0500
TZOFFSETTO:-0600
TZNAME:CST
DTSTART:20251102T070000
END:STANDARD
BEGIN:DAYLIGHT
TZOFFSETFROM:-0600
TZOFFSETTO:-0500
TZNAME:CDT
DTSTART:20260308T080000
END:DAYLIGHT
BEGIN:STANDARD
TZOFFSETFROM:-0500
TZOFFSETTO:-0600
TZNAME:CST
DTSTART:20261101T070000
END:STANDARD
BEGIN:DAYLIGHT
TZOFFSETFROM:-0600
TZOFFSETTO:-0500
TZNAME:CDT
DTSTART:20270314T080000
END:DAYLIGHT
BEGIN:STANDARD
TZOFFSETFROM:-0500
TZOFFSETTO:-0600
TZNAME:CST
DTSTART:20271107T070000
END:STANDARD
BEGIN:DAYLIGHT
TZOFFSETFROM:-0600
TZOFFSETTO:-0500
TZNAME:CDT
DTSTART:20280312T080000
END:DAYLIGHT
BEGIN:STANDARD
TZOFFSETFROM:-0500
TZOFFSETTO:-0600
TZNAME:CST
DTSTART:20281105T070000
END:STANDARD
END:VTIMEZONE
BEGIN:VEVENT
DTSTART;TZID=America/Chicago:20261208T183000
DTEND;TZID=America/Chicago:20261208T193000
DTSTAMP:20260420T172933
CREATED:20230817T164705Z
LAST-MODIFIED:20251204T153621Z
UID:10025949-1796754600-1796758200@plchutch.org
SUMMARY:6:30 Promise Keepers
DESCRIPTION:
URL:https://plchutch.org/event/630-promise-keepers-2/2026-12-08/
LOCATION:Peace Lutheran Church\, 400 Franklin St. SW\, Hutchinson\, MN\, 55350\, United States
GEO:44.8873168;-94.3713681
X-APPLE-STRUCTURED-LOCATION;VALUE=URI;X-ADDRESS=Peace Lutheran Church 400 Franklin St. SW Hutchinson MN 55350 United States;X-APPLE-RADIUS=500;X-TITLE=400 Franklin St. SW:geo:-94.3713681,44.8873168
END:VEVENT
BEGIN:VEVENT
DTSTART;TZID=America/Chicago:20261208T183000
DTEND;TZID=America/Chicago:20261208T210000
DTSTAMP:20260420T172933
CREATED:20250802T172514Z
LAST-MODIFIED:20250802T193650Z
UID:10032966-1796754600-1796763600@plchutch.org
SUMMARY:6:30 Church Council
DESCRIPTION:
URL:https://plchutch.org/event/700-church-council-3/2026-12-08/
LOCATION:Peace Lutheran Church\, 400 Franklin St. SW\, Hutchinson\, MN\, 55350\, United States
CATEGORIES:Private Event
GEO:44.8873168;-94.3713681
X-APPLE-STRUCTURED-LOCATION;VALUE=URI;X-ADDRESS=Peace Lutheran Church 400 Franklin St. SW Hutchinson MN 55350 United States;X-APPLE-RADIUS=500;X-TITLE=400 Franklin St. SW:geo:-94.3713681,44.8873168
END:VEVENT
BEGIN:VEVENT
DTSTART;TZID=America/Chicago:20261208T183000
DTEND;TZID=America/Chicago:20261208T210000
DTSTAMP:20260420T172933
CREATED:20250802T193540Z
LAST-MODIFIED:20250802T193541Z
UID:10030404-1796754600-1796763600@plchutch.org
SUMMARY:6:30 Church Council
DESCRIPTION:
URL:https://plchutch.org/event/700-church-council-3-2/2026-12-08/
LOCATION:Peace Lutheran Church\, 400 Franklin St. SW\, Hutchinson\, MN\, 55350\, United States
CATEGORIES:Private Event
GEO:44.8873168;-94.3713681
X-APPLE-STRUCTURED-LOCATION;VALUE=URI;X-ADDRESS=Peace Lutheran Church 400 Franklin St. SW Hutchinson MN 55350 United States;X-APPLE-RADIUS=500;X-TITLE=400 Franklin St. SW:geo:-94.3713681,44.8873168
END:VEVENT
BEGIN:VEVENT
DTSTART;TZID=America/Chicago:20261213T083000
DTEND;TZID=America/Chicago:20261213T093000
DTSTAMP:20260420T172933
CREATED:20251007T160557Z
LAST-MODIFIED:20251007T160558Z
UID:10023698-1797150600-1797154200@plchutch.org
SUMMARY:8:30 Worship
DESCRIPTION:
URL:https://plchutch.org/event/830-worship-4-4-2/2026-12-13/
LOCATION:Peace Lutheran Church\, 400 Franklin St. SW\, Hutchinson\, MN\, 55350\, United States
CATEGORIES:Adult Ministry,Featured Events,Public Event,Worship
GEO:44.8873168;-94.3713681
X-APPLE-STRUCTURED-LOCATION;VALUE=URI;X-ADDRESS=Peace Lutheran Church 400 Franklin St. SW Hutchinson MN 55350 United States;X-APPLE-RADIUS=500;X-TITLE=400 Franklin St. SW:geo:-94.3713681,44.8873168
END:VEVENT
BEGIN:VEVENT
DTSTART;TZID=America/Chicago:20261215T100000
DTEND;TZID=America/Chicago:20261215T110000
DTSTAMP:20260420T172933
CREATED:20240504T134855Z
LAST-MODIFIED:20251204T153710Z
UID:10025691-1797328800-1797332400@plchutch.org
SUMMARY:10:00 Women's Bible Study
DESCRIPTION:
URL:https://plchutch.org/event/1000-womens-bible-study-2/2026-12-15/
LOCATION:Peace Lutheran Church\, 400 Franklin St. SW\, Hutchinson\, MN\, 55350\, United States
GEO:44.8873168;-94.3713681
X-APPLE-STRUCTURED-LOCATION;VALUE=URI;X-ADDRESS=Peace Lutheran Church 400 Franklin St. SW Hutchinson MN 55350 United States;X-APPLE-RADIUS=500;X-TITLE=400 Franklin St. SW:geo:-94.3713681,44.8873168
END:VEVENT
BEGIN:VEVENT
DTSTART;TZID=America/Chicago:20261215T183000
DTEND;TZID=America/Chicago:20261215T193000
DTSTAMP:20260420T172933
CREATED:20230817T164705Z
LAST-MODIFIED:20251204T153621Z
UID:10025950-1797359400-1797363000@plchutch.org
SUMMARY:6:30 Promise Keepers
DESCRIPTION:
URL:https://plchutch.org/event/630-promise-keepers-2/2026-12-15/
LOCATION:Peace Lutheran Church\, 400 Franklin St. SW\, Hutchinson\, MN\, 55350\, United States
GEO:44.8873168;-94.3713681
X-APPLE-STRUCTURED-LOCATION;VALUE=URI;X-ADDRESS=Peace Lutheran Church 400 Franklin St. SW Hutchinson MN 55350 United States;X-APPLE-RADIUS=500;X-TITLE=400 Franklin St. SW:geo:-94.3713681,44.8873168
END:VEVENT
BEGIN:VEVENT
DTSTART;TZID=America/Chicago:20261217T183000
DTEND;TZID=America/Chicago:20261217T210000
DTSTAMP:20260420T172933
CREATED:20250528T194952Z
LAST-MODIFIED:20250701T012907Z
UID:10032776-1797532200-1797541200@plchutch.org
SUMMARY:6:30 Trustees
DESCRIPTION:
URL:https://plchutch.org/event/700-trustees-3-2/2026-12-17/
LOCATION:Peace Lutheran Church\, 400 Franklin St. SW\, Hutchinson\, MN\, 55350\, United States
GEO:44.8873168;-94.3713681
X-APPLE-STRUCTURED-LOCATION;VALUE=URI;X-ADDRESS=Peace Lutheran Church 400 Franklin St. SW Hutchinson MN 55350 United States;X-APPLE-RADIUS=500;X-TITLE=400 Franklin St. SW:geo:-94.3713681,44.8873168
END:VEVENT
BEGIN:VEVENT
DTSTART;TZID=America/Chicago:20261222T100000
DTEND;TZID=America/Chicago:20261222T110000
DTSTAMP:20260420T172933
CREATED:20240504T134855Z
LAST-MODIFIED:20251204T153710Z
UID:10025692-1797933600-1797937200@plchutch.org
SUMMARY:10:00 Women's Bible Study
DESCRIPTION:
URL:https://plchutch.org/event/1000-womens-bible-study-2/2026-12-22/
LOCATION:Peace Lutheran Church\, 400 Franklin St. SW\, Hutchinson\, MN\, 55350\, United States
GEO:44.8873168;-94.3713681
X-APPLE-STRUCTURED-LOCATION;VALUE=URI;X-ADDRESS=Peace Lutheran Church 400 Franklin St. SW Hutchinson MN 55350 United States;X-APPLE-RADIUS=500;X-TITLE=400 Franklin St. SW:geo:-94.3713681,44.8873168
END:VEVENT
BEGIN:VEVENT
DTSTART;TZID=America/Chicago:20261222T183000
DTEND;TZID=America/Chicago:20261222T193000
DTSTAMP:20260420T172933
CREATED:20230817T164705Z
LAST-MODIFIED:20251204T153621Z
UID:10025951-1797964200-1797967800@plchutch.org
SUMMARY:6:30 Promise Keepers
DESCRIPTION:
URL:https://plchutch.org/event/630-promise-keepers-2/2026-12-22/
LOCATION:Peace Lutheran Church\, 400 Franklin St. SW\, Hutchinson\, MN\, 55350\, United States
GEO:44.8873168;-94.3713681
X-APPLE-STRUCTURED-LOCATION;VALUE=URI;X-ADDRESS=Peace Lutheran Church 400 Franklin St. SW Hutchinson MN 55350 United States;X-APPLE-RADIUS=500;X-TITLE=400 Franklin St. SW:geo:-94.3713681,44.8873168
END:VEVENT
BEGIN:VEVENT
DTSTART;TZID=America/Chicago:20261229T100000
DTEND;TZID=America/Chicago:20261229T110000
DTSTAMP:20260420T172933
CREATED:20240504T134855Z
LAST-MODIFIED:20251204T153710Z
UID:10025693-1798538400-1798542000@plchutch.org
SUMMARY:10:00 Women's Bible Study
DESCRIPTION:
URL:https://plchutch.org/event/1000-womens-bible-study-2/2026-12-29/
LOCATION:Peace Lutheran Church\, 400 Franklin St. SW\, Hutchinson\, MN\, 55350\, United States
GEO:44.8873168;-94.3713681
X-APPLE-STRUCTURED-LOCATION;VALUE=URI;X-ADDRESS=Peace Lutheran Church 400 Franklin St. SW Hutchinson MN 55350 United States;X-APPLE-RADIUS=500;X-TITLE=400 Franklin St. SW:geo:-94.3713681,44.8873168
END:VEVENT
BEGIN:VEVENT
DTSTART;TZID=America/Chicago:20261229T183000
DTEND;TZID=America/Chicago:20261229T193000
DTSTAMP:20260420T172933
CREATED:20230817T164705Z
LAST-MODIFIED:20251204T153621Z
UID:10025952-1798569000-1798572600@plchutch.org
SUMMARY:6:30 Promise Keepers
DESCRIPTION:
URL:https://plchutch.org/event/630-promise-keepers-2/2026-12-29/
LOCATION:Peace Lutheran Church\, 400 Franklin St. SW\, Hutchinson\, MN\, 55350\, United States
GEO:44.8873168;-94.3713681
X-APPLE-STRUCTURED-LOCATION;VALUE=URI;X-ADDRESS=Peace Lutheran Church 400 Franklin St. SW Hutchinson MN 55350 United States;X-APPLE-RADIUS=500;X-TITLE=400 Franklin St. SW:geo:-94.3713681,44.8873168
END:VEVENT
BEGIN:VEVENT
DTSTART;TZID=America/Chicago:20270105T100000
DTEND;TZID=America/Chicago:20270105T110000
DTSTAMP:20260420T172933
CREATED:20240504T134855Z
LAST-MODIFIED:20251204T153710Z
UID:10025694-1799143200-1799146800@plchutch.org
SUMMARY:10:00 Women's Bible Study
DESCRIPTION:
URL:https://plchutch.org/event/1000-womens-bible-study-2/2027-01-05/
LOCATION:Peace Lutheran Church\, 400 Franklin St. SW\, Hutchinson\, MN\, 55350\, United States
GEO:44.8873168;-94.3713681
X-APPLE-STRUCTURED-LOCATION;VALUE=URI;X-ADDRESS=Peace Lutheran Church 400 Franklin St. SW Hutchinson MN 55350 United States;X-APPLE-RADIUS=500;X-TITLE=400 Franklin St. SW:geo:-94.3713681,44.8873168
END:VEVENT
BEGIN:VEVENT
DTSTART;TZID=America/Chicago:20270105T183000
DTEND;TZID=America/Chicago:20270105T193000
DTSTAMP:20260420T172933
CREATED:20230817T164705Z
LAST-MODIFIED:20251204T153621Z
UID:10025953-1799173800-1799177400@plchutch.org
SUMMARY:6:30 Promise Keepers
DESCRIPTION:
URL:https://plchutch.org/event/630-promise-keepers-2/2027-01-05/
LOCATION:Peace Lutheran Church\, 400 Franklin St. SW\, Hutchinson\, MN\, 55350\, United States
GEO:44.8873168;-94.3713681
X-APPLE-STRUCTURED-LOCATION;VALUE=URI;X-ADDRESS=Peace Lutheran Church 400 Franklin St. SW Hutchinson MN 55350 United States;X-APPLE-RADIUS=500;X-TITLE=400 Franklin St. SW:geo:-94.3713681,44.8873168
END:VEVENT
BEGIN:VEVENT
DTSTART;TZID=America/Chicago:20270105T183000
DTEND;TZID=America/Chicago:20270105T193000
DTSTAMP:20260420T172933
CREATED:20240427T024833Z
LAST-MODIFIED:20250701T012749Z
UID:10026078-1799173800-1799177400@plchutch.org
SUMMARY:6:30 Elders
DESCRIPTION:
URL:https://plchutch.org/event/630-elders-4-2/2027-01-05/
LOCATION:Peace Lutheran Church\, 400 Franklin St. SW\, Hutchinson\, MN\, 55350\, United States
GEO:44.8873168;-94.3713681
X-APPLE-STRUCTURED-LOCATION;VALUE=URI;X-ADDRESS=Peace Lutheran Church 400 Franklin St. SW Hutchinson MN 55350 United States;X-APPLE-RADIUS=500;X-TITLE=400 Franklin St. SW:geo:-94.3713681,44.8873168
END:VEVENT
BEGIN:VEVENT
DTSTART;TZID=America/Chicago:20270110T083000
DTEND;TZID=America/Chicago:20270110T093000
DTSTAMP:20260420T172933
CREATED:20251007T160557Z
LAST-MODIFIED:20251007T160558Z
UID:10023699-1799569800-1799573400@plchutch.org
SUMMARY:8:30 Worship
DESCRIPTION:
URL:https://plchutch.org/event/830-worship-4-4-2/2027-01-10/
LOCATION:Peace Lutheran Church\, 400 Franklin St. SW\, Hutchinson\, MN\, 55350\, United States
CATEGORIES:Adult Ministry,Featured Events,Public Event,Worship
GEO:44.8873168;-94.3713681
X-APPLE-STRUCTURED-LOCATION;VALUE=URI;X-ADDRESS=Peace Lutheran Church 400 Franklin St. SW Hutchinson MN 55350 United States;X-APPLE-RADIUS=500;X-TITLE=400 Franklin St. SW:geo:-94.3713681,44.8873168
END:VEVENT
BEGIN:VEVENT
DTSTART;TZID=America/Chicago:20270112T100000
DTEND;TZID=America/Chicago:20270112T110000
DTSTAMP:20260420T172933
CREATED:20240504T134855Z
LAST-MODIFIED:20251204T153710Z
UID:10025695-1799748000-1799751600@plchutch.org
SUMMARY:10:00 Women's Bible Study
DESCRIPTION:
URL:https://plchutch.org/event/1000-womens-bible-study-2/2027-01-12/
LOCATION:Peace Lutheran Church\, 400 Franklin St. SW\, Hutchinson\, MN\, 55350\, United States
GEO:44.8873168;-94.3713681
X-APPLE-STRUCTURED-LOCATION;VALUE=URI;X-ADDRESS=Peace Lutheran Church 400 Franklin St. SW Hutchinson MN 55350 United States;X-APPLE-RADIUS=500;X-TITLE=400 Franklin St. SW:geo:-94.3713681,44.8873168
END:VEVENT
BEGIN:VEVENT
DTSTART;TZID=America/Chicago:20270112T183000
DTEND;TZID=America/Chicago:20270112T193000
DTSTAMP:20260420T172933
CREATED:20230817T164705Z
LAST-MODIFIED:20251204T153621Z
UID:10025954-1799778600-1799782200@plchutch.org
SUMMARY:6:30 Promise Keepers
DESCRIPTION:
URL:https://plchutch.org/event/630-promise-keepers-2/2027-01-12/
LOCATION:Peace Lutheran Church\, 400 Franklin St. SW\, Hutchinson\, MN\, 55350\, United States
GEO:44.8873168;-94.3713681
X-APPLE-STRUCTURED-LOCATION;VALUE=URI;X-ADDRESS=Peace Lutheran Church 400 Franklin St. SW Hutchinson MN 55350 United States;X-APPLE-RADIUS=500;X-TITLE=400 Franklin St. SW:geo:-94.3713681,44.8873168
END:VEVENT
BEGIN:VEVENT
DTSTART;TZID=America/Chicago:20270112T183000
DTEND;TZID=America/Chicago:20270112T210000
DTSTAMP:20260420T172933
CREATED:20250802T172514Z
LAST-MODIFIED:20250802T193650Z
UID:10032967-1799778600-1799787600@plchutch.org
SUMMARY:6:30 Church Council
DESCRIPTION:
URL:https://plchutch.org/event/700-church-council-3/2027-01-12/
LOCATION:Peace Lutheran Church\, 400 Franklin St. SW\, Hutchinson\, MN\, 55350\, United States
CATEGORIES:Private Event
GEO:44.8873168;-94.3713681
X-APPLE-STRUCTURED-LOCATION;VALUE=URI;X-ADDRESS=Peace Lutheran Church 400 Franklin St. SW Hutchinson MN 55350 United States;X-APPLE-RADIUS=500;X-TITLE=400 Franklin St. SW:geo:-94.3713681,44.8873168
END:VEVENT
BEGIN:VEVENT
DTSTART;TZID=America/Chicago:20270112T183000
DTEND;TZID=America/Chicago:20270112T210000
DTSTAMP:20260420T172933
CREATED:20250802T193540Z
LAST-MODIFIED:20250802T193541Z
UID:10030405-1799778600-1799787600@plchutch.org
SUMMARY:6:30 Church Council
DESCRIPTION:
URL:https://plchutch.org/event/700-church-council-3-2/2027-01-12/
LOCATION:Peace Lutheran Church\, 400 Franklin St. SW\, Hutchinson\, MN\, 55350\, United States
CATEGORIES:Private Event
GEO:44.8873168;-94.3713681
X-APPLE-STRUCTURED-LOCATION;VALUE=URI;X-ADDRESS=Peace Lutheran Church 400 Franklin St. SW Hutchinson MN 55350 United States;X-APPLE-RADIUS=500;X-TITLE=400 Franklin St. SW:geo:-94.3713681,44.8873168
END:VEVENT
BEGIN:VEVENT
DTSTART;TZID=America/Chicago:20270119T100000
DTEND;TZID=America/Chicago:20270119T110000
DTSTAMP:20260420T172933
CREATED:20240504T134855Z
LAST-MODIFIED:20251204T153710Z
UID:10025696-1800352800-1800356400@plchutch.org
SUMMARY:10:00 Women's Bible Study
DESCRIPTION:
URL:https://plchutch.org/event/1000-womens-bible-study-2/2027-01-19/
LOCATION:Peace Lutheran Church\, 400 Franklin St. SW\, Hutchinson\, MN\, 55350\, United States
GEO:44.8873168;-94.3713681
X-APPLE-STRUCTURED-LOCATION;VALUE=URI;X-ADDRESS=Peace Lutheran Church 400 Franklin St. SW Hutchinson MN 55350 United States;X-APPLE-RADIUS=500;X-TITLE=400 Franklin St. SW:geo:-94.3713681,44.8873168
END:VEVENT
BEGIN:VEVENT
DTSTART;TZID=America/Chicago:20270119T183000
DTEND;TZID=America/Chicago:20270119T193000
DTSTAMP:20260420T172933
CREATED:20230817T164705Z
LAST-MODIFIED:20251204T153621Z
UID:10025955-1800383400-1800387000@plchutch.org
SUMMARY:6:30 Promise Keepers
DESCRIPTION:
URL:https://plchutch.org/event/630-promise-keepers-2/2027-01-19/
LOCATION:Peace Lutheran Church\, 400 Franklin St. SW\, Hutchinson\, MN\, 55350\, United States
GEO:44.8873168;-94.3713681
X-APPLE-STRUCTURED-LOCATION;VALUE=URI;X-ADDRESS=Peace Lutheran Church 400 Franklin St. SW Hutchinson MN 55350 United States;X-APPLE-RADIUS=500;X-TITLE=400 Franklin St. SW:geo:-94.3713681,44.8873168
END:VEVENT
BEGIN:VEVENT
DTSTART;TZID=America/Chicago:20270121T183000
DTEND;TZID=America/Chicago:20270121T210000
DTSTAMP:20260420T172933
CREATED:20250528T194952Z
LAST-MODIFIED:20250701T012907Z
UID:10032777-1800556200-1800565200@plchutch.org
SUMMARY:6:30 Trustees
DESCRIPTION:
URL:https://plchutch.org/event/700-trustees-3-2/2027-01-21/
LOCATION:Peace Lutheran Church\, 400 Franklin St. SW\, Hutchinson\, MN\, 55350\, United States
GEO:44.8873168;-94.3713681
X-APPLE-STRUCTURED-LOCATION;VALUE=URI;X-ADDRESS=Peace Lutheran Church 400 Franklin St. SW Hutchinson MN 55350 United States;X-APPLE-RADIUS=500;X-TITLE=400 Franklin St. SW:geo:-94.3713681,44.8873168
END:VEVENT
BEGIN:VEVENT
DTSTART;TZID=America/Chicago:20270126T100000
DTEND;TZID=America/Chicago:20270126T110000
DTSTAMP:20260420T172933
CREATED:20240504T134855Z
LAST-MODIFIED:20251204T153710Z
UID:10025697-1800957600-1800961200@plchutch.org
SUMMARY:10:00 Women's Bible Study
DESCRIPTION:
URL:https://plchutch.org/event/1000-womens-bible-study-2/2027-01-26/
LOCATION:Peace Lutheran Church\, 400 Franklin St. SW\, Hutchinson\, MN\, 55350\, United States
GEO:44.8873168;-94.3713681
X-APPLE-STRUCTURED-LOCATION;VALUE=URI;X-ADDRESS=Peace Lutheran Church 400 Franklin St. SW Hutchinson MN 55350 United States;X-APPLE-RADIUS=500;X-TITLE=400 Franklin St. SW:geo:-94.3713681,44.8873168
END:VEVENT
BEGIN:VEVENT
DTSTART;TZID=America/Chicago:20270126T183000
DTEND;TZID=America/Chicago:20270126T193000
DTSTAMP:20260420T172933
CREATED:20230817T164705Z
LAST-MODIFIED:20251204T153621Z
UID:10025956-1800988200-1800991800@plchutch.org
SUMMARY:6:30 Promise Keepers
DESCRIPTION:
URL:https://plchutch.org/event/630-promise-keepers-2/2027-01-26/
LOCATION:Peace Lutheran Church\, 400 Franklin St. SW\, Hutchinson\, MN\, 55350\, United States
GEO:44.8873168;-94.3713681
X-APPLE-STRUCTURED-LOCATION;VALUE=URI;X-ADDRESS=Peace Lutheran Church 400 Franklin St. SW Hutchinson MN 55350 United States;X-APPLE-RADIUS=500;X-TITLE=400 Franklin St. SW:geo:-94.3713681,44.8873168
END:VEVENT
BEGIN:VEVENT
DTSTART;TZID=America/Chicago:20270202T100000
DTEND;TZID=America/Chicago:20270202T110000
DTSTAMP:20260420T172933
CREATED:20240504T134855Z
LAST-MODIFIED:20251204T153710Z
UID:10025698-1801562400-1801566000@plchutch.org
SUMMARY:10:00 Women's Bible Study
DESCRIPTION:
URL:https://plchutch.org/event/1000-womens-bible-study-2/2027-02-02/
LOCATION:Peace Lutheran Church\, 400 Franklin St. SW\, Hutchinson\, MN\, 55350\, United States
GEO:44.8873168;-94.3713681
X-APPLE-STRUCTURED-LOCATION;VALUE=URI;X-ADDRESS=Peace Lutheran Church 400 Franklin St. SW Hutchinson MN 55350 United States;X-APPLE-RADIUS=500;X-TITLE=400 Franklin St. SW:geo:-94.3713681,44.8873168
END:VEVENT
BEGIN:VEVENT
DTSTART;TZID=America/Chicago:20270202T183000
DTEND;TZID=America/Chicago:20270202T193000
DTSTAMP:20260420T172933
CREATED:20230817T164705Z
LAST-MODIFIED:20251204T153621Z
UID:10025957-1801593000-1801596600@plchutch.org
SUMMARY:6:30 Promise Keepers
DESCRIPTION:
URL:https://plchutch.org/event/630-promise-keepers-2/2027-02-02/
LOCATION:Peace Lutheran Church\, 400 Franklin St. SW\, Hutchinson\, MN\, 55350\, United States
GEO:44.8873168;-94.3713681
X-APPLE-STRUCTURED-LOCATION;VALUE=URI;X-ADDRESS=Peace Lutheran Church 400 Franklin St. SW Hutchinson MN 55350 United States;X-APPLE-RADIUS=500;X-TITLE=400 Franklin St. SW:geo:-94.3713681,44.8873168
END:VEVENT
BEGIN:VEVENT
DTSTART;TZID=America/Chicago:20270202T183000
DTEND;TZID=America/Chicago:20270202T193000
DTSTAMP:20260420T172933
CREATED:20240427T024833Z
LAST-MODIFIED:20250701T012749Z
UID:10026079-1801593000-1801596600@plchutch.org
SUMMARY:6:30 Elders
DESCRIPTION:
URL:https://plchutch.org/event/630-elders-4-2/2027-02-02/
LOCATION:Peace Lutheran Church\, 400 Franklin St. SW\, Hutchinson\, MN\, 55350\, United States
GEO:44.8873168;-94.3713681
X-APPLE-STRUCTURED-LOCATION;VALUE=URI;X-ADDRESS=Peace Lutheran Church 400 Franklin St. SW Hutchinson MN 55350 United States;X-APPLE-RADIUS=500;X-TITLE=400 Franklin St. SW:geo:-94.3713681,44.8873168
END:VEVENT
BEGIN:VEVENT
DTSTART;TZID=America/Chicago:20270209T100000
DTEND;TZID=America/Chicago:20270209T110000
DTSTAMP:20260420T172933
CREATED:20240504T134855Z
LAST-MODIFIED:20251204T153710Z
UID:10025699-1802167200-1802170800@plchutch.org
SUMMARY:10:00 Women's Bible Study
DESCRIPTION:
URL:https://plchutch.org/event/1000-womens-bible-study-2/2027-02-09/
LOCATION:Peace Lutheran Church\, 400 Franklin St. SW\, Hutchinson\, MN\, 55350\, United States
GEO:44.8873168;-94.3713681
X-APPLE-STRUCTURED-LOCATION;VALUE=URI;X-ADDRESS=Peace Lutheran Church 400 Franklin St. SW Hutchinson MN 55350 United States;X-APPLE-RADIUS=500;X-TITLE=400 Franklin St. SW:geo:-94.3713681,44.8873168
END:VEVENT
BEGIN:VEVENT
DTSTART;TZID=America/Chicago:20270209T183000
DTEND;TZID=America/Chicago:20270209T193000
DTSTAMP:20260420T172933
CREATED:20230817T164705Z
LAST-MODIFIED:20251204T153621Z
UID:10025958-1802197800-1802201400@plchutch.org
SUMMARY:6:30 Promise Keepers
DESCRIPTION:
URL:https://plchutch.org/event/630-promise-keepers-2/2027-02-09/
LOCATION:Peace Lutheran Church\, 400 Franklin St. SW\, Hutchinson\, MN\, 55350\, United States
GEO:44.8873168;-94.3713681
X-APPLE-STRUCTURED-LOCATION;VALUE=URI;X-ADDRESS=Peace Lutheran Church 400 Franklin St. SW Hutchinson MN 55350 United States;X-APPLE-RADIUS=500;X-TITLE=400 Franklin St. SW:geo:-94.3713681,44.8873168
END:VEVENT
BEGIN:VEVENT
DTSTART;TZID=America/Chicago:20270209T183000
DTEND;TZID=America/Chicago:20270209T210000
DTSTAMP:20260420T172933
CREATED:20250802T172514Z
LAST-MODIFIED:20250802T193650Z
UID:10032968-1802197800-1802206800@plchutch.org
SUMMARY:6:30 Church Council
DESCRIPTION:
URL:https://plchutch.org/event/700-church-council-3/2027-02-09/
LOCATION:Peace Lutheran Church\, 400 Franklin St. SW\, Hutchinson\, MN\, 55350\, United States
CATEGORIES:Private Event
GEO:44.8873168;-94.3713681
X-APPLE-STRUCTURED-LOCATION;VALUE=URI;X-ADDRESS=Peace Lutheran Church 400 Franklin St. SW Hutchinson MN 55350 United States;X-APPLE-RADIUS=500;X-TITLE=400 Franklin St. SW:geo:-94.3713681,44.8873168
END:VEVENT
END:VCALENDAR