BEGIN:VCALENDAR
VERSION:2.0
PRODID:-//Peace Lutheran Church - ECPv6.15.20//NONSGML v1.0//EN
CALSCALE:GREGORIAN
METHOD:PUBLISH
X-ORIGINAL-URL:https://plchutch.org
X-WR-CALDESC:Events for Peace Lutheran Church
REFRESH-INTERVAL;VALUE=DURATION:PT1H
X-Robots-Tag:noindex
X-PUBLISHED-TTL:PT1H
BEGIN:VTIMEZONE
TZID:America/Chicago
BEGIN:DAYLIGHT
TZOFFSETFROM:-0600
TZOFFSETTO:-0500
TZNAME:CDT
DTSTART:20240310T080000
END:DAYLIGHT
BEGIN:STANDARD
TZOFFSETFROM:-0500
TZOFFSETTO:-0600
TZNAME:CST
DTSTART:20241103T070000
END:STANDARD
BEGIN:DAYLIGHT
TZOFFSETFROM:-0600
TZOFFSETTO:-0500
TZNAME:CDT
DTSTART:20250309T080000
END:DAYLIGHT
BEGIN:STANDARD
TZOFFSETFROM:-0500
TZOFFSETTO:-0600
TZNAME:CST
DTSTART:20251102T070000
END:STANDARD
BEGIN:DAYLIGHT
TZOFFSETFROM:-0600
TZOFFSETTO:-0500
TZNAME:CDT
DTSTART:20260308T080000
END:DAYLIGHT
BEGIN:STANDARD
TZOFFSETFROM:-0500
TZOFFSETTO:-0600
TZNAME:CST
DTSTART:20261101T070000
END:STANDARD
END:VTIMEZONE
BEGIN:VEVENT
DTSTART;VALUE=DATE:20250323
DTEND;VALUE=DATE:20250324
DTSTAMP:20260420T153829
CREATED:20250222T191440Z
LAST-MODIFIED:20250222T191440Z
UID:10032508-1742688000-1742774399@plchutch.org
SUMMARY:3rd Sunday in Lent
DESCRIPTION:
URL:https://plchutch.org/event/3rd-sunday-in-lent/
LOCATION:Peace Lutheran Church\, 400 Franklin St. SW\, Hutchinson\, MN\, 55350\, United States
GEO:44.8873168;-94.3713681
X-APPLE-STRUCTURED-LOCATION;VALUE=URI;X-ADDRESS=Peace Lutheran Church 400 Franklin St. SW Hutchinson MN 55350 United States;X-APPLE-RADIUS=500;X-TITLE=400 Franklin St. SW:geo:-94.3713681,44.8873168
END:VEVENT
BEGIN:VEVENT
DTSTART;TZID=America/Chicago:20250323T083000
DTEND;TZID=America/Chicago:20250323T093000
DTSTAMP:20260420T153829
CREATED:20241210T222809Z
LAST-MODIFIED:20241210T222809Z
UID:10023855-1742718600-1742722200@plchutch.org
SUMMARY:8:30 Worship
DESCRIPTION:
URL:https://plchutch.org/event/830-worship-5-3/2025-03-23/
LOCATION:Peace Lutheran Church\, 400 Franklin St. SW\, Hutchinson\, MN\, 55350\, United States
CATEGORIES:Adult Ministry,Children Ministry,Featured Events,Public Event,Worship
GEO:44.8873168;-94.3713681
X-APPLE-STRUCTURED-LOCATION;VALUE=URI;X-ADDRESS=Peace Lutheran Church 400 Franklin St. SW Hutchinson MN 55350 United States;X-APPLE-RADIUS=500;X-TITLE=400 Franklin St. SW:geo:-94.3713681,44.8873168
END:VEVENT
BEGIN:VEVENT
DTSTART;TZID=America/Chicago:20250323T093000
DTEND;TZID=America/Chicago:20250323T103000
DTSTAMP:20260420T153829
CREATED:20241220T174927Z
LAST-MODIFIED:20250407T142839Z
UID:10032484-1742722200-1742725800@plchutch.org
SUMMARY:9:40 Adult Bible Study
DESCRIPTION:
URL:https://plchutch.org/event/940-adult-bible-study-4/2025-03-23/
LOCATION:Peace Lutheran Church\, 400 Franklin St. SW\, Hutchinson\, MN\, 55350\, United States
GEO:44.8873168;-94.3713681
X-APPLE-STRUCTURED-LOCATION;VALUE=URI;X-ADDRESS=Peace Lutheran Church 400 Franklin St. SW Hutchinson MN 55350 United States;X-APPLE-RADIUS=500;X-TITLE=400 Franklin St. SW:geo:-94.3713681,44.8873168
END:VEVENT
BEGIN:VEVENT
DTSTART;TZID=America/Chicago:20250323T094000
DTEND;TZID=America/Chicago:20250323T102000
DTSTAMP:20260420T153829
CREATED:20250222T203957Z
LAST-MODIFIED:20250424T035521Z
UID:10032520-1742722800-1742725200@plchutch.org
SUMMARY:9:40 Sunday School
DESCRIPTION:
URL:https://plchutch.org/event/940-sunday-school-2/2025-03-23/
LOCATION:Peace Lutheran Church\, 400 Franklin St. SW\, Hutchinson\, MN\, 55350\, United States
GEO:44.8873168;-94.3713681
X-APPLE-STRUCTURED-LOCATION;VALUE=URI;X-ADDRESS=Peace Lutheran Church 400 Franklin St. SW Hutchinson MN 55350 United States;X-APPLE-RADIUS=500;X-TITLE=400 Franklin St. SW:geo:-94.3713681,44.8873168
END:VEVENT
BEGIN:VEVENT
DTSTART;TZID=America/Chicago:20250324T130000
DTEND;TZID=America/Chicago:20250324T143000
DTSTAMP:20260420T153829
CREATED:20250222T184742Z
LAST-MODIFIED:20250323T191943Z
UID:10032476-1742821200-1742826600@plchutch.org
SUMMARY:1-2:30 Grief Share
DESCRIPTION:
URL:https://plchutch.org/event/1-230-grief-share/2025-03-24/
LOCATION:Peace Lutheran Church\, 400 Franklin St. SW\, Hutchinson\, MN\, 55350\, United States
GEO:44.8873168;-94.3713681
X-APPLE-STRUCTURED-LOCATION;VALUE=URI;X-ADDRESS=Peace Lutheran Church 400 Franklin St. SW Hutchinson MN 55350 United States;X-APPLE-RADIUS=500;X-TITLE=400 Franklin St. SW:geo:-94.3713681,44.8873168
END:VEVENT
BEGIN:VEVENT
DTSTART;TZID=America/Chicago:20250325T100000
DTEND;TZID=America/Chicago:20250325T110000
DTSTAMP:20260420T153829
CREATED:20240504T134855Z
LAST-MODIFIED:20251204T153710Z
UID:10025601-1742896800-1742900400@plchutch.org
SUMMARY:10:00 Women's Bible Study
DESCRIPTION:
URL:https://plchutch.org/event/1000-womens-bible-study-2/2025-03-25/
LOCATION:Peace Lutheran Church\, 400 Franklin St. SW\, Hutchinson\, MN\, 55350\, United States
GEO:44.8873168;-94.3713681
X-APPLE-STRUCTURED-LOCATION;VALUE=URI;X-ADDRESS=Peace Lutheran Church 400 Franklin St. SW Hutchinson MN 55350 United States;X-APPLE-RADIUS=500;X-TITLE=400 Franklin St. SW:geo:-94.3713681,44.8873168
END:VEVENT
BEGIN:VEVENT
DTSTART;TZID=America/Chicago:20250325T183000
DTEND;TZID=America/Chicago:20250325T193000
DTSTAMP:20260420T153829
CREATED:20230817T164705Z
LAST-MODIFIED:20251204T153621Z
UID:10025860-1742927400-1742931000@plchutch.org
SUMMARY:6:30 Promise Keepers
DESCRIPTION:
URL:https://plchutch.org/event/630-promise-keepers-2/2025-03-25/
LOCATION:Peace Lutheran Church\, 400 Franklin St. SW\, Hutchinson\, MN\, 55350\, United States
GEO:44.8873168;-94.3713681
X-APPLE-STRUCTURED-LOCATION;VALUE=URI;X-ADDRESS=Peace Lutheran Church 400 Franklin St. SW Hutchinson MN 55350 United States;X-APPLE-RADIUS=500;X-TITLE=400 Franklin St. SW:geo:-94.3713681,44.8873168
END:VEVENT
BEGIN:VEVENT
DTSTART;VALUE=DATE:20250326
DTEND;VALUE=DATE:20250327
DTSTAMP:20260420T153829
CREATED:20250222T190715Z
LAST-MODIFIED:20250222T190715Z
UID:10032495-1742976000-1743008400@plchutch.org
SUMMARY:Lent
DESCRIPTION:
URL:https://plchutch.org/event/lent/2025-03-26/
LOCATION:Peace Lutheran Church\, 400 Franklin St. SW\, Hutchinson\, MN\, 55350\, United States
GEO:44.8873168;-94.3713681
X-APPLE-STRUCTURED-LOCATION;VALUE=URI;X-ADDRESS=Peace Lutheran Church 400 Franklin St. SW Hutchinson MN 55350 United States;X-APPLE-RADIUS=500;X-TITLE=400 Franklin St. SW:geo:-94.3713681,44.8873168
END:VEVENT
BEGIN:VEVENT
DTSTART;TZID=America/Chicago:20250326T090000
DTEND;TZID=America/Chicago:20250326T110000
DTSTAMP:20260420T153829
CREATED:20241104T161616Z
LAST-MODIFIED:20250222T210146Z
UID:10032524-1742979600-1742986800@plchutch.org
SUMMARY:9:00 Release Time Elementary
DESCRIPTION:
URL:https://plchutch.org/event/900-release-time-elementary/2025-03-26/
LOCATION:Peace Lutheran Church\, 400 Franklin St. SW\, Hutchinson\, MN\, 55350\, United States
GEO:44.8873168;-94.3713681
X-APPLE-STRUCTURED-LOCATION;VALUE=URI;X-ADDRESS=Peace Lutheran Church 400 Franklin St. SW Hutchinson MN 55350 United States;X-APPLE-RADIUS=500;X-TITLE=400 Franklin St. SW:geo:-94.3713681,44.8873168
END:VEVENT
BEGIN:VEVENT
DTSTART;TZID=America/Chicago:20250326T100000
DTEND;TZID=America/Chicago:20250326T110000
DTSTAMP:20260420T153829
CREATED:20241220T175756Z
LAST-MODIFIED:20250222T210815Z
UID:10032528-1742983200-1742986800@plchutch.org
SUMMARY:10:00 Body & Soul
DESCRIPTION:
URL:https://plchutch.org/event/1000-body-soul-2/2025-03-26/
LOCATION:Peace Lutheran Church\, 400 Franklin St. SW\, Hutchinson\, MN\, 55350\, United States
GEO:44.8873168;-94.3713681
X-APPLE-STRUCTURED-LOCATION;VALUE=URI;X-ADDRESS=Peace Lutheran Church 400 Franklin St. SW Hutchinson MN 55350 United States;X-APPLE-RADIUS=500;X-TITLE=400 Franklin St. SW:geo:-94.3713681,44.8873168
END:VEVENT
BEGIN:VEVENT
DTSTART;TZID=America/Chicago:20250326T113000
DTEND;TZID=America/Chicago:20250326T130000
DTSTAMP:20260420T153829
CREATED:20250222T211318Z
LAST-MODIFIED:20250222T211318Z
UID:10032532-1742988600-1742994000@plchutch.org
SUMMARY:11:30 Worship & Lunch
DESCRIPTION:
URL:https://plchutch.org/event/1130-worship-lunch-4/2025-03-26/
LOCATION:Peace Lutheran Church\, 400 Franklin St. SW\, Hutchinson\, MN\, 55350\, United States
GEO:44.8873168;-94.3713681
X-APPLE-STRUCTURED-LOCATION;VALUE=URI;X-ADDRESS=Peace Lutheran Church 400 Franklin St. SW Hutchinson MN 55350 United States;X-APPLE-RADIUS=500;X-TITLE=400 Franklin St. SW:geo:-94.3713681,44.8873168
END:VEVENT
BEGIN:VEVENT
DTSTART;TZID=America/Chicago:20250326T143000
DTEND;TZID=America/Chicago:20250326T163000
DTSTAMP:20260420T153829
CREATED:20241220T180416Z
LAST-MODIFIED:20250222T212237Z
UID:10032540-1742999400-1743006600@plchutch.org
SUMMARY:2:30 Confirmation
DESCRIPTION:
URL:https://plchutch.org/event/230-confirmation-2/2025-03-26/
LOCATION:Peace Lutheran Church\, 400 Franklin St. SW\, Hutchinson\, MN\, 55350\, United States
GEO:44.8873168;-94.3713681
X-APPLE-STRUCTURED-LOCATION;VALUE=URI;X-ADDRESS=Peace Lutheran Church 400 Franklin St. SW Hutchinson MN 55350 United States;X-APPLE-RADIUS=500;X-TITLE=400 Franklin St. SW:geo:-94.3713681,44.8873168
END:VEVENT
BEGIN:VEVENT
DTSTART;TZID=America/Chicago:20250326T153000
DTEND;TZID=America/Chicago:20250326T163000
DTSTAMP:20260420T153829
CREATED:20241220T180716Z
LAST-MODIFIED:20250222T212020Z
UID:10032537-1743003000-1743006600@plchutch.org
SUMMARY:3:30 Tiger Tweens
DESCRIPTION:
URL:https://plchutch.org/event/330-tiger-tweens-2/2025-03-26/
LOCATION:Peace Lutheran Church\, 400 Franklin St. SW\, Hutchinson\, MN\, 55350\, United States
GEO:44.8873168;-94.3713681
X-APPLE-STRUCTURED-LOCATION;VALUE=URI;X-ADDRESS=Peace Lutheran Church 400 Franklin St. SW Hutchinson MN 55350 United States;X-APPLE-RADIUS=500;X-TITLE=400 Franklin St. SW:geo:-94.3713681,44.8873168
END:VEVENT
BEGIN:VEVENT
DTSTART;TZID=America/Chicago:20250326T163000
DTEND;TZID=America/Chicago:20250326T170000
DTSTAMP:20260420T153829
CREATED:20250222T213109Z
LAST-MODIFIED:20250222T213109Z
UID:10032543-1743006600-1743008400@plchutch.org
SUMMARY:4:30 Lenten Worship
DESCRIPTION:
URL:https://plchutch.org/event/430-lenten-worship/2025-03-26/
LOCATION:Peace Lutheran Church\, 400 Franklin St. SW\, Hutchinson\, MN\, 55350\, United States
GEO:44.8873168;-94.3713681
X-APPLE-STRUCTURED-LOCATION;VALUE=URI;X-ADDRESS=Peace Lutheran Church 400 Franklin St. SW Hutchinson MN 55350 United States;X-APPLE-RADIUS=500;X-TITLE=400 Franklin St. SW:geo:-94.3713681,44.8873168
END:VEVENT
BEGIN:VEVENT
DTSTART;TZID=America/Chicago:20250326T183000
DTEND;TZID=America/Chicago:20250326T190000
DTSTAMP:20260420T153829
CREATED:20250222T213343Z
LAST-MODIFIED:20250222T213343Z
UID:10032547-1743013800-1743015600@plchutch.org
SUMMARY:6:30 Lenten Worship
DESCRIPTION:
URL:https://plchutch.org/event/630-lenten-worship-2/2025-03-26/
LOCATION:Peace Lutheran Church\, 400 Franklin St. SW\, Hutchinson\, MN\, 55350\, United States
GEO:44.8873168;-94.3713681
X-APPLE-STRUCTURED-LOCATION;VALUE=URI;X-ADDRESS=Peace Lutheran Church 400 Franklin St. SW Hutchinson MN 55350 United States;X-APPLE-RADIUS=500;X-TITLE=400 Franklin St. SW:geo:-94.3713681,44.8873168
END:VEVENT
BEGIN:VEVENT
DTSTART;TZID=America/Chicago:20250329T183000
DTEND;TZID=America/Chicago:20250329T193000
DTSTAMP:20260420T153829
CREATED:20241007T183351Z
LAST-MODIFIED:20250222T185200Z
UID:10032480-1743273000-1743276600@plchutch.org
SUMMARY:6:30 Worship w/Comm
DESCRIPTION:
URL:https://plchutch.org/event/630-worship-w-comm/2025-03-29/
LOCATION:Peace Lutheran Church\, 400 Franklin St. SW\, Hutchinson\, MN\, 55350\, United States
GEO:44.8873168;-94.3713681
X-APPLE-STRUCTURED-LOCATION;VALUE=URI;X-ADDRESS=Peace Lutheran Church 400 Franklin St. SW Hutchinson MN 55350 United States;X-APPLE-RADIUS=500;X-TITLE=400 Franklin St. SW:geo:-94.3713681,44.8873168
END:VEVENT
BEGIN:VEVENT
DTSTART;VALUE=DATE:20250330
DTEND;VALUE=DATE:20250331
DTSTAMP:20260420T153829
CREATED:20250222T191512Z
LAST-MODIFIED:20250222T191512Z
UID:10032509-1743292800-1743379199@plchutch.org
SUMMARY:4th Sunday in Lent
DESCRIPTION:
URL:https://plchutch.org/event/4th-sunday-in-lent/
LOCATION:Peace Lutheran Church\, 400 Franklin St. SW\, Hutchinson\, MN\, 55350\, United States
GEO:44.8873168;-94.3713681
X-APPLE-STRUCTURED-LOCATION;VALUE=URI;X-ADDRESS=Peace Lutheran Church 400 Franklin St. SW Hutchinson MN 55350 United States;X-APPLE-RADIUS=500;X-TITLE=400 Franklin St. SW:geo:-94.3713681,44.8873168
END:VEVENT
BEGIN:VEVENT
DTSTART;TZID=America/Chicago:20250330T083000
DTEND;TZID=America/Chicago:20250330T093000
DTSTAMP:20260420T153829
CREATED:20250222T192726Z
LAST-MODIFIED:20250407T142606Z
UID:10032517-1743323400-1743327000@plchutch.org
SUMMARY:8:30 Worship w/Communion
DESCRIPTION:
URL:https://plchutch.org/event/830-worship-w-communion-7/2025-03-30/
LOCATION:Peace Lutheran Church\, 400 Franklin St. SW\, Hutchinson\, MN\, 55350\, United States
GEO:44.8873168;-94.3713681
X-APPLE-STRUCTURED-LOCATION;VALUE=URI;X-ADDRESS=Peace Lutheran Church 400 Franklin St. SW Hutchinson MN 55350 United States;X-APPLE-RADIUS=500;X-TITLE=400 Franklin St. SW:geo:-94.3713681,44.8873168
END:VEVENT
BEGIN:VEVENT
DTSTART;TZID=America/Chicago:20250330T093000
DTEND;TZID=America/Chicago:20250330T103000
DTSTAMP:20260420T153829
CREATED:20241220T174927Z
LAST-MODIFIED:20250407T142839Z
UID:10032485-1743327000-1743330600@plchutch.org
SUMMARY:9:40 Adult Bible Study
DESCRIPTION:
URL:https://plchutch.org/event/940-adult-bible-study-4/2025-03-30/
LOCATION:Peace Lutheran Church\, 400 Franklin St. SW\, Hutchinson\, MN\, 55350\, United States
GEO:44.8873168;-94.3713681
X-APPLE-STRUCTURED-LOCATION;VALUE=URI;X-ADDRESS=Peace Lutheran Church 400 Franklin St. SW Hutchinson MN 55350 United States;X-APPLE-RADIUS=500;X-TITLE=400 Franklin St. SW:geo:-94.3713681,44.8873168
END:VEVENT
BEGIN:VEVENT
DTSTART;TZID=America/Chicago:20250330T094000
DTEND;TZID=America/Chicago:20250330T102000
DTSTAMP:20260420T153829
CREATED:20250222T203957Z
LAST-MODIFIED:20250424T035521Z
UID:10032521-1743327600-1743330000@plchutch.org
SUMMARY:9:40 Sunday School
DESCRIPTION:
URL:https://plchutch.org/event/940-sunday-school-2/2025-03-30/
LOCATION:Peace Lutheran Church\, 400 Franklin St. SW\, Hutchinson\, MN\, 55350\, United States
GEO:44.8873168;-94.3713681
X-APPLE-STRUCTURED-LOCATION;VALUE=URI;X-ADDRESS=Peace Lutheran Church 400 Franklin St. SW Hutchinson MN 55350 United States;X-APPLE-RADIUS=500;X-TITLE=400 Franklin St. SW:geo:-94.3713681,44.8873168
END:VEVENT
BEGIN:VEVENT
DTSTART;TZID=America/Chicago:20250330T103000
DTEND;TZID=America/Chicago:20250330T113000
DTSTAMP:20260420T153829
CREATED:20231006T011947Z
LAST-MODIFIED:20240625T224139Z
UID:10030259-1743330600-1743334200@plchutch.org
SUMMARY:10:30 Worship w/comm
DESCRIPTION:
URL:https://plchutch.org/event/1030-worship-w-comm/2025-03-30/
LOCATION:Peace Lutheran Church\, 400 Franklin St. SW\, Hutchinson\, MN\, 55350\, United States
CATEGORIES:Adult Ministry,Children Ministry,Featured Events,Public Event,Worship
GEO:44.8873168;-94.3713681
X-APPLE-STRUCTURED-LOCATION;VALUE=URI;X-ADDRESS=Peace Lutheran Church 400 Franklin St. SW Hutchinson MN 55350 United States;X-APPLE-RADIUS=500;X-TITLE=400 Franklin St. SW:geo:-94.3713681,44.8873168
END:VEVENT
BEGIN:VEVENT
DTSTART;TZID=America/Chicago:20250331T130000
DTEND;TZID=America/Chicago:20250331T143000
DTSTAMP:20260420T153829
CREATED:20250222T184742Z
LAST-MODIFIED:20250323T191943Z
UID:10032477-1743426000-1743431400@plchutch.org
SUMMARY:1-2:30 Grief Share
DESCRIPTION:
URL:https://plchutch.org/event/1-230-grief-share/2025-03-31/
LOCATION:Peace Lutheran Church\, 400 Franklin St. SW\, Hutchinson\, MN\, 55350\, United States
GEO:44.8873168;-94.3713681
X-APPLE-STRUCTURED-LOCATION;VALUE=URI;X-ADDRESS=Peace Lutheran Church 400 Franklin St. SW Hutchinson MN 55350 United States;X-APPLE-RADIUS=500;X-TITLE=400 Franklin St. SW:geo:-94.3713681,44.8873168
END:VEVENT
BEGIN:VEVENT
DTSTART;TZID=America/Chicago:20250401T063000
DTEND;TZID=America/Chicago:20250401T193000
DTSTAMP:20260420T153829
CREATED:20250331T172231Z
LAST-MODIFIED:20250331T172231Z
UID:10032574-1743489000-1743535800@plchutch.org
SUMMARY:6:45 Men's Bible Study
DESCRIPTION:
URL:https://plchutch.org/event/645-mens-bible-study/2025-04-01/
LOCATION:Peace Lutheran Church\, 400 Franklin St. SW\, Hutchinson\, MN\, 55350\, United States
GEO:44.8873168;-94.3713681
X-APPLE-STRUCTURED-LOCATION;VALUE=URI;X-ADDRESS=Peace Lutheran Church 400 Franklin St. SW Hutchinson MN 55350 United States;X-APPLE-RADIUS=500;X-TITLE=400 Franklin St. SW:geo:-94.3713681,44.8873168
END:VEVENT
BEGIN:VEVENT
DTSTART;TZID=America/Chicago:20250401T100000
DTEND;TZID=America/Chicago:20250401T110000
DTSTAMP:20260420T153829
CREATED:20240504T134855Z
LAST-MODIFIED:20251204T153710Z
UID:10025602-1743501600-1743505200@plchutch.org
SUMMARY:10:00 Women's Bible Study
DESCRIPTION:
URL:https://plchutch.org/event/1000-womens-bible-study-2/2025-04-01/
LOCATION:Peace Lutheran Church\, 400 Franklin St. SW\, Hutchinson\, MN\, 55350\, United States
GEO:44.8873168;-94.3713681
X-APPLE-STRUCTURED-LOCATION;VALUE=URI;X-ADDRESS=Peace Lutheran Church 400 Franklin St. SW Hutchinson MN 55350 United States;X-APPLE-RADIUS=500;X-TITLE=400 Franklin St. SW:geo:-94.3713681,44.8873168
END:VEVENT
BEGIN:VEVENT
DTSTART;TZID=America/Chicago:20250401T183000
DTEND;TZID=America/Chicago:20250401T193000
DTSTAMP:20260420T153829
CREATED:20230817T164705Z
LAST-MODIFIED:20251204T153621Z
UID:10025861-1743532200-1743535800@plchutch.org
SUMMARY:6:30 Promise Keepers
DESCRIPTION:
URL:https://plchutch.org/event/630-promise-keepers-2/2025-04-01/
LOCATION:Peace Lutheran Church\, 400 Franklin St. SW\, Hutchinson\, MN\, 55350\, United States
GEO:44.8873168;-94.3713681
X-APPLE-STRUCTURED-LOCATION;VALUE=URI;X-ADDRESS=Peace Lutheran Church 400 Franklin St. SW Hutchinson MN 55350 United States;X-APPLE-RADIUS=500;X-TITLE=400 Franklin St. SW:geo:-94.3713681,44.8873168
END:VEVENT
BEGIN:VEVENT
DTSTART;TZID=America/Chicago:20250401T183000
DTEND;TZID=America/Chicago:20250401T193000
DTSTAMP:20260420T153829
CREATED:20240427T024833Z
LAST-MODIFIED:20250701T012749Z
UID:10026057-1743532200-1743535800@plchutch.org
SUMMARY:6:30 Elders
DESCRIPTION:
URL:https://plchutch.org/event/630-elders-4-2/2025-04-01/
LOCATION:Peace Lutheran Church\, 400 Franklin St. SW\, Hutchinson\, MN\, 55350\, United States
GEO:44.8873168;-94.3713681
X-APPLE-STRUCTURED-LOCATION;VALUE=URI;X-ADDRESS=Peace Lutheran Church 400 Franklin St. SW Hutchinson MN 55350 United States;X-APPLE-RADIUS=500;X-TITLE=400 Franklin St. SW:geo:-94.3713681,44.8873168
END:VEVENT
BEGIN:VEVENT
DTSTART;TZID=America/Chicago:20250402T080000
DTEND;TZID=America/Chicago:20250402T170000
DTSTAMP:20260420T153829
CREATED:20250407T151321Z
LAST-MODIFIED:20250407T151321Z
UID:10032671-1743580800-1743613200@plchutch.org
SUMMARY:6:30 Lenten Worship
DESCRIPTION:
URL:https://plchutch.org/event/630-lenten-worship-3/2025-04-02/1/
LOCATION:Peace Lutheran Church\, 400 Franklin St. SW\, Hutchinson\, MN\, 55350\, United States
GEO:44.8873168;-94.3713681
X-APPLE-STRUCTURED-LOCATION;VALUE=URI;X-ADDRESS=Peace Lutheran Church 400 Franklin St. SW Hutchinson MN 55350 United States;X-APPLE-RADIUS=500;X-TITLE=400 Franklin St. SW:geo:-94.3713681,44.8873168
END:VEVENT
BEGIN:VEVENT
DTSTART;TZID=America/Chicago:20250402T100000
DTEND;TZID=America/Chicago:20250402T230000
DTSTAMP:20260420T153829
CREATED:20250331T170640Z
LAST-MODIFIED:20250331T170640Z
UID:10032568-1743588000-1743634800@plchutch.org
SUMMARY:10:00 Body & Soul
DESCRIPTION:
URL:https://plchutch.org/event/1000-body-soul-3/2025-04-02/
LOCATION:Peace Lutheran Church\, 400 Franklin St. SW\, Hutchinson\, MN\, 55350\, United States
GEO:44.8873168;-94.3713681
X-APPLE-STRUCTURED-LOCATION;VALUE=URI;X-ADDRESS=Peace Lutheran Church 400 Franklin St. SW Hutchinson MN 55350 United States;X-APPLE-RADIUS=500;X-TITLE=400 Franklin St. SW:geo:-94.3713681,44.8873168
END:VEVENT
BEGIN:VEVENT
DTSTART;TZID=America/Chicago:20250402T113000
DTEND;TZID=America/Chicago:20250402T130000
DTSTAMP:20260420T153829
CREATED:20250407T151550Z
LAST-MODIFIED:20250407T151550Z
UID:10032676-1743593400-1743598800@plchutch.org
SUMMARY:11:30 Worship & Lunch
DESCRIPTION:
URL:https://plchutch.org/event/1130-worship-lunch-5/2025-04-02/
LOCATION:Peace Lutheran Church\, 400 Franklin St. SW\, Hutchinson\, MN\, 55350\, United States
GEO:44.8873168;-94.3713681
X-APPLE-STRUCTURED-LOCATION;VALUE=URI;X-ADDRESS=Peace Lutheran Church 400 Franklin St. SW Hutchinson MN 55350 United States;X-APPLE-RADIUS=500;X-TITLE=400 Franklin St. SW:geo:-94.3713681,44.8873168
END:VEVENT
BEGIN:VEVENT
DTSTART;TZID=America/Chicago:20250402T133000
DTEND;TZID=America/Chicago:20250402T153000
DTSTAMP:20260420T153829
CREATED:20250331T170958Z
LAST-MODIFIED:20250331T170958Z
UID:10032573-1743600600-1743607800@plchutch.org
SUMMARY:1:30 Layettes w/Youth Early Release
DESCRIPTION:
URL:https://plchutch.org/event/130-layettes-w-youth-early-release/
LOCATION:Peace Lutheran Church\, 400 Franklin St. SW\, Hutchinson\, MN\, 55350\, United States
GEO:44.8873168;-94.3713681
X-APPLE-STRUCTURED-LOCATION;VALUE=URI;X-ADDRESS=Peace Lutheran Church 400 Franklin St. SW Hutchinson MN 55350 United States;X-APPLE-RADIUS=500;X-TITLE=400 Franklin St. SW:geo:-94.3713681,44.8873168
END:VEVENT
END:VCALENDAR