BEGIN:VCALENDAR
VERSION:2.0
PRODID:-//Peace Lutheran Church - ECPv6.15.20//NONSGML v1.0//EN
CALSCALE:GREGORIAN
METHOD:PUBLISH
X-ORIGINAL-URL:https://plchutch.org
X-WR-CALDESC:Events for Peace Lutheran Church
REFRESH-INTERVAL;VALUE=DURATION:PT1H
X-Robots-Tag:noindex
X-PUBLISHED-TTL:PT1H
BEGIN:VTIMEZONE
TZID:America/Chicago
BEGIN:DAYLIGHT
TZOFFSETFROM:-0600
TZOFFSETTO:-0500
TZNAME:CDT
DTSTART:20250309T080000
END:DAYLIGHT
BEGIN:STANDARD
TZOFFSETFROM:-0500
TZOFFSETTO:-0600
TZNAME:CST
DTSTART:20251102T070000
END:STANDARD
BEGIN:DAYLIGHT
TZOFFSETFROM:-0600
TZOFFSETTO:-0500
TZNAME:CDT
DTSTART:20260308T080000
END:DAYLIGHT
BEGIN:STANDARD
TZOFFSETFROM:-0500
TZOFFSETTO:-0600
TZNAME:CST
DTSTART:20261101T070000
END:STANDARD
BEGIN:DAYLIGHT
TZOFFSETFROM:-0600
TZOFFSETTO:-0500
TZNAME:CDT
DTSTART:20270314T080000
END:DAYLIGHT
BEGIN:STANDARD
TZOFFSETFROM:-0500
TZOFFSETTO:-0600
TZNAME:CST
DTSTART:20271107T070000
END:STANDARD
END:VTIMEZONE
BEGIN:VEVENT
DTSTART;TZID=America/Chicago:20260811T183000
DTEND;TZID=America/Chicago:20260811T193000
DTSTAMP:20260422T025942
CREATED:20230817T164705Z
LAST-MODIFIED:20251204T153621Z
UID:10025932-1786473000-1786476600@plchutch.org
SUMMARY:6:30 Promise Keepers
DESCRIPTION:
URL:https://plchutch.org/event/630-promise-keepers-2/2026-08-11/
LOCATION:Peace Lutheran Church\, 400 Franklin St. SW\, Hutchinson\, MN\, 55350\, United States
GEO:44.8873168;-94.3713681
X-APPLE-STRUCTURED-LOCATION;VALUE=URI;X-ADDRESS=Peace Lutheran Church 400 Franklin St. SW Hutchinson MN 55350 United States;X-APPLE-RADIUS=500;X-TITLE=400 Franklin St. SW:geo:-94.3713681,44.8873168
END:VEVENT
BEGIN:VEVENT
DTSTART;TZID=America/Chicago:20260811T183000
DTEND;TZID=America/Chicago:20260811T210000
DTSTAMP:20260422T025942
CREATED:20250802T172514Z
LAST-MODIFIED:20250802T193650Z
UID:10032962-1786473000-1786482000@plchutch.org
SUMMARY:6:30 Church Council
DESCRIPTION:
URL:https://plchutch.org/event/700-church-council-3/2026-08-11/
LOCATION:Peace Lutheran Church\, 400 Franklin St. SW\, Hutchinson\, MN\, 55350\, United States
CATEGORIES:Private Event
GEO:44.8873168;-94.3713681
X-APPLE-STRUCTURED-LOCATION;VALUE=URI;X-ADDRESS=Peace Lutheran Church 400 Franklin St. SW Hutchinson MN 55350 United States;X-APPLE-RADIUS=500;X-TITLE=400 Franklin St. SW:geo:-94.3713681,44.8873168
END:VEVENT
BEGIN:VEVENT
DTSTART;TZID=America/Chicago:20260811T183000
DTEND;TZID=America/Chicago:20260811T210000
DTSTAMP:20260422T025942
CREATED:20250802T193540Z
LAST-MODIFIED:20250802T193541Z
UID:10030400-1786473000-1786482000@plchutch.org
SUMMARY:6:30 Church Council
DESCRIPTION:
URL:https://plchutch.org/event/700-church-council-3-2/2026-08-11/
LOCATION:Peace Lutheran Church\, 400 Franklin St. SW\, Hutchinson\, MN\, 55350\, United States
CATEGORIES:Private Event
GEO:44.8873168;-94.3713681
X-APPLE-STRUCTURED-LOCATION;VALUE=URI;X-ADDRESS=Peace Lutheran Church 400 Franklin St. SW Hutchinson MN 55350 United States;X-APPLE-RADIUS=500;X-TITLE=400 Franklin St. SW:geo:-94.3713681,44.8873168
END:VEVENT
BEGIN:VEVENT
DTSTART;TZID=America/Chicago:20260818T100000
DTEND;TZID=America/Chicago:20260818T110000
DTSTAMP:20260422T025942
CREATED:20240504T134855Z
LAST-MODIFIED:20251204T153710Z
UID:10025674-1787047200-1787050800@plchutch.org
SUMMARY:10:00 Women's Bible Study
DESCRIPTION:
URL:https://plchutch.org/event/1000-womens-bible-study-2/2026-08-18/
LOCATION:Peace Lutheran Church\, 400 Franklin St. SW\, Hutchinson\, MN\, 55350\, United States
GEO:44.8873168;-94.3713681
X-APPLE-STRUCTURED-LOCATION;VALUE=URI;X-ADDRESS=Peace Lutheran Church 400 Franklin St. SW Hutchinson MN 55350 United States;X-APPLE-RADIUS=500;X-TITLE=400 Franklin St. SW:geo:-94.3713681,44.8873168
END:VEVENT
BEGIN:VEVENT
DTSTART;TZID=America/Chicago:20260818T183000
DTEND;TZID=America/Chicago:20260818T193000
DTSTAMP:20260422T025942
CREATED:20230817T164705Z
LAST-MODIFIED:20251204T153621Z
UID:10025933-1787077800-1787081400@plchutch.org
SUMMARY:6:30 Promise Keepers
DESCRIPTION:
URL:https://plchutch.org/event/630-promise-keepers-2/2026-08-18/
LOCATION:Peace Lutheran Church\, 400 Franklin St. SW\, Hutchinson\, MN\, 55350\, United States
GEO:44.8873168;-94.3713681
X-APPLE-STRUCTURED-LOCATION;VALUE=URI;X-ADDRESS=Peace Lutheran Church 400 Franklin St. SW Hutchinson MN 55350 United States;X-APPLE-RADIUS=500;X-TITLE=400 Franklin St. SW:geo:-94.3713681,44.8873168
END:VEVENT
BEGIN:VEVENT
DTSTART;TZID=America/Chicago:20260820T183000
DTEND;TZID=America/Chicago:20260820T210000
DTSTAMP:20260422T025942
CREATED:20250528T194952Z
LAST-MODIFIED:20250701T012907Z
UID:10032772-1787250600-1787259600@plchutch.org
SUMMARY:6:30 Trustees
DESCRIPTION:
URL:https://plchutch.org/event/700-trustees-3-2/2026-08-20/
LOCATION:Peace Lutheran Church\, 400 Franklin St. SW\, Hutchinson\, MN\, 55350\, United States
GEO:44.8873168;-94.3713681
X-APPLE-STRUCTURED-LOCATION;VALUE=URI;X-ADDRESS=Peace Lutheran Church 400 Franklin St. SW Hutchinson MN 55350 United States;X-APPLE-RADIUS=500;X-TITLE=400 Franklin St. SW:geo:-94.3713681,44.8873168
END:VEVENT
BEGIN:VEVENT
DTSTART;TZID=America/Chicago:20260825T100000
DTEND;TZID=America/Chicago:20260825T110000
DTSTAMP:20260422T025942
CREATED:20240504T134855Z
LAST-MODIFIED:20251204T153710Z
UID:10025675-1787652000-1787655600@plchutch.org
SUMMARY:10:00 Women's Bible Study
DESCRIPTION:
URL:https://plchutch.org/event/1000-womens-bible-study-2/2026-08-25/
LOCATION:Peace Lutheran Church\, 400 Franklin St. SW\, Hutchinson\, MN\, 55350\, United States
GEO:44.8873168;-94.3713681
X-APPLE-STRUCTURED-LOCATION;VALUE=URI;X-ADDRESS=Peace Lutheran Church 400 Franklin St. SW Hutchinson MN 55350 United States;X-APPLE-RADIUS=500;X-TITLE=400 Franklin St. SW:geo:-94.3713681,44.8873168
END:VEVENT
BEGIN:VEVENT
DTSTART;TZID=America/Chicago:20260825T183000
DTEND;TZID=America/Chicago:20260825T193000
DTSTAMP:20260422T025942
CREATED:20230817T164705Z
LAST-MODIFIED:20251204T153621Z
UID:10025934-1787682600-1787686200@plchutch.org
SUMMARY:6:30 Promise Keepers
DESCRIPTION:
URL:https://plchutch.org/event/630-promise-keepers-2/2026-08-25/
LOCATION:Peace Lutheran Church\, 400 Franklin St. SW\, Hutchinson\, MN\, 55350\, United States
GEO:44.8873168;-94.3713681
X-APPLE-STRUCTURED-LOCATION;VALUE=URI;X-ADDRESS=Peace Lutheran Church 400 Franklin St. SW Hutchinson MN 55350 United States;X-APPLE-RADIUS=500;X-TITLE=400 Franklin St. SW:geo:-94.3713681,44.8873168
END:VEVENT
BEGIN:VEVENT
DTSTART;TZID=America/Chicago:20260901T100000
DTEND;TZID=America/Chicago:20260901T110000
DTSTAMP:20260422T025942
CREATED:20240504T134855Z
LAST-MODIFIED:20251204T153710Z
UID:10025676-1788256800-1788260400@plchutch.org
SUMMARY:10:00 Women's Bible Study
DESCRIPTION:
URL:https://plchutch.org/event/1000-womens-bible-study-2/2026-09-01/
LOCATION:Peace Lutheran Church\, 400 Franklin St. SW\, Hutchinson\, MN\, 55350\, United States
GEO:44.8873168;-94.3713681
X-APPLE-STRUCTURED-LOCATION;VALUE=URI;X-ADDRESS=Peace Lutheran Church 400 Franklin St. SW Hutchinson MN 55350 United States;X-APPLE-RADIUS=500;X-TITLE=400 Franklin St. SW:geo:-94.3713681,44.8873168
END:VEVENT
BEGIN:VEVENT
DTSTART;TZID=America/Chicago:20260901T183000
DTEND;TZID=America/Chicago:20260901T193000
DTSTAMP:20260422T025942
CREATED:20230817T164705Z
LAST-MODIFIED:20251204T153621Z
UID:10025935-1788287400-1788291000@plchutch.org
SUMMARY:6:30 Promise Keepers
DESCRIPTION:
URL:https://plchutch.org/event/630-promise-keepers-2/2026-09-01/
LOCATION:Peace Lutheran Church\, 400 Franklin St. SW\, Hutchinson\, MN\, 55350\, United States
GEO:44.8873168;-94.3713681
X-APPLE-STRUCTURED-LOCATION;VALUE=URI;X-ADDRESS=Peace Lutheran Church 400 Franklin St. SW Hutchinson MN 55350 United States;X-APPLE-RADIUS=500;X-TITLE=400 Franklin St. SW:geo:-94.3713681,44.8873168
END:VEVENT
BEGIN:VEVENT
DTSTART;TZID=America/Chicago:20260901T183000
DTEND;TZID=America/Chicago:20260901T193000
DTSTAMP:20260422T025942
CREATED:20240427T024833Z
LAST-MODIFIED:20250701T012749Z
UID:10026074-1788287400-1788291000@plchutch.org
SUMMARY:6:30 Elders
DESCRIPTION:
URL:https://plchutch.org/event/630-elders-4-2/2026-09-01/
LOCATION:Peace Lutheran Church\, 400 Franklin St. SW\, Hutchinson\, MN\, 55350\, United States
GEO:44.8873168;-94.3713681
X-APPLE-STRUCTURED-LOCATION;VALUE=URI;X-ADDRESS=Peace Lutheran Church 400 Franklin St. SW Hutchinson MN 55350 United States;X-APPLE-RADIUS=500;X-TITLE=400 Franklin St. SW:geo:-94.3713681,44.8873168
END:VEVENT
BEGIN:VEVENT
DTSTART;TZID=America/Chicago:20260908T100000
DTEND;TZID=America/Chicago:20260908T110000
DTSTAMP:20260422T025942
CREATED:20240504T134855Z
LAST-MODIFIED:20251204T153710Z
UID:10025677-1788861600-1788865200@plchutch.org
SUMMARY:10:00 Women's Bible Study
DESCRIPTION:
URL:https://plchutch.org/event/1000-womens-bible-study-2/2026-09-08/
LOCATION:Peace Lutheran Church\, 400 Franklin St. SW\, Hutchinson\, MN\, 55350\, United States
GEO:44.8873168;-94.3713681
X-APPLE-STRUCTURED-LOCATION;VALUE=URI;X-ADDRESS=Peace Lutheran Church 400 Franklin St. SW Hutchinson MN 55350 United States;X-APPLE-RADIUS=500;X-TITLE=400 Franklin St. SW:geo:-94.3713681,44.8873168
END:VEVENT
BEGIN:VEVENT
DTSTART;TZID=America/Chicago:20260908T183000
DTEND;TZID=America/Chicago:20260908T193000
DTSTAMP:20260422T025942
CREATED:20230817T164705Z
LAST-MODIFIED:20251204T153621Z
UID:10025936-1788892200-1788895800@plchutch.org
SUMMARY:6:30 Promise Keepers
DESCRIPTION:
URL:https://plchutch.org/event/630-promise-keepers-2/2026-09-08/
LOCATION:Peace Lutheran Church\, 400 Franklin St. SW\, Hutchinson\, MN\, 55350\, United States
GEO:44.8873168;-94.3713681
X-APPLE-STRUCTURED-LOCATION;VALUE=URI;X-ADDRESS=Peace Lutheran Church 400 Franklin St. SW Hutchinson MN 55350 United States;X-APPLE-RADIUS=500;X-TITLE=400 Franklin St. SW:geo:-94.3713681,44.8873168
END:VEVENT
BEGIN:VEVENT
DTSTART;TZID=America/Chicago:20260908T183000
DTEND;TZID=America/Chicago:20260908T210000
DTSTAMP:20260422T025942
CREATED:20250802T172514Z
LAST-MODIFIED:20250802T193650Z
UID:10032963-1788892200-1788901200@plchutch.org
SUMMARY:6:30 Church Council
DESCRIPTION:
URL:https://plchutch.org/event/700-church-council-3/2026-09-08/
LOCATION:Peace Lutheran Church\, 400 Franklin St. SW\, Hutchinson\, MN\, 55350\, United States
CATEGORIES:Private Event
GEO:44.8873168;-94.3713681
X-APPLE-STRUCTURED-LOCATION;VALUE=URI;X-ADDRESS=Peace Lutheran Church 400 Franklin St. SW Hutchinson MN 55350 United States;X-APPLE-RADIUS=500;X-TITLE=400 Franklin St. SW:geo:-94.3713681,44.8873168
END:VEVENT
BEGIN:VEVENT
DTSTART;TZID=America/Chicago:20260908T183000
DTEND;TZID=America/Chicago:20260908T210000
DTSTAMP:20260422T025942
CREATED:20250802T193540Z
LAST-MODIFIED:20250802T193541Z
UID:10030401-1788892200-1788901200@plchutch.org
SUMMARY:6:30 Church Council
DESCRIPTION:
URL:https://plchutch.org/event/700-church-council-3-2/2026-09-08/
LOCATION:Peace Lutheran Church\, 400 Franklin St. SW\, Hutchinson\, MN\, 55350\, United States
CATEGORIES:Private Event
GEO:44.8873168;-94.3713681
X-APPLE-STRUCTURED-LOCATION;VALUE=URI;X-ADDRESS=Peace Lutheran Church 400 Franklin St. SW Hutchinson MN 55350 United States;X-APPLE-RADIUS=500;X-TITLE=400 Franklin St. SW:geo:-94.3713681,44.8873168
END:VEVENT
BEGIN:VEVENT
DTSTART;TZID=America/Chicago:20260913T083000
DTEND;TZID=America/Chicago:20260913T093000
DTSTAMP:20260422T025942
CREATED:20251007T160557Z
LAST-MODIFIED:20251007T160558Z
UID:10023695-1789288200-1789291800@plchutch.org
SUMMARY:8:30 Worship
DESCRIPTION:
URL:https://plchutch.org/event/830-worship-4-4-2/2026-09-13/
LOCATION:Peace Lutheran Church\, 400 Franklin St. SW\, Hutchinson\, MN\, 55350\, United States
CATEGORIES:Adult Ministry,Featured Events,Public Event,Worship
GEO:44.8873168;-94.3713681
X-APPLE-STRUCTURED-LOCATION;VALUE=URI;X-ADDRESS=Peace Lutheran Church 400 Franklin St. SW Hutchinson MN 55350 United States;X-APPLE-RADIUS=500;X-TITLE=400 Franklin St. SW:geo:-94.3713681,44.8873168
END:VEVENT
BEGIN:VEVENT
DTSTART;TZID=America/Chicago:20260915T100000
DTEND;TZID=America/Chicago:20260915T110000
DTSTAMP:20260422T025942
CREATED:20240504T134855Z
LAST-MODIFIED:20251204T153710Z
UID:10025678-1789466400-1789470000@plchutch.org
SUMMARY:10:00 Women's Bible Study
DESCRIPTION:
URL:https://plchutch.org/event/1000-womens-bible-study-2/2026-09-15/
LOCATION:Peace Lutheran Church\, 400 Franklin St. SW\, Hutchinson\, MN\, 55350\, United States
GEO:44.8873168;-94.3713681
X-APPLE-STRUCTURED-LOCATION;VALUE=URI;X-ADDRESS=Peace Lutheran Church 400 Franklin St. SW Hutchinson MN 55350 United States;X-APPLE-RADIUS=500;X-TITLE=400 Franklin St. SW:geo:-94.3713681,44.8873168
END:VEVENT
BEGIN:VEVENT
DTSTART;TZID=America/Chicago:20260915T183000
DTEND;TZID=America/Chicago:20260915T193000
DTSTAMP:20260422T025942
CREATED:20230817T164705Z
LAST-MODIFIED:20251204T153621Z
UID:10025937-1789497000-1789500600@plchutch.org
SUMMARY:6:30 Promise Keepers
DESCRIPTION:
URL:https://plchutch.org/event/630-promise-keepers-2/2026-09-15/
LOCATION:Peace Lutheran Church\, 400 Franklin St. SW\, Hutchinson\, MN\, 55350\, United States
GEO:44.8873168;-94.3713681
X-APPLE-STRUCTURED-LOCATION;VALUE=URI;X-ADDRESS=Peace Lutheran Church 400 Franklin St. SW Hutchinson MN 55350 United States;X-APPLE-RADIUS=500;X-TITLE=400 Franklin St. SW:geo:-94.3713681,44.8873168
END:VEVENT
BEGIN:VEVENT
DTSTART;TZID=America/Chicago:20260917T183000
DTEND;TZID=America/Chicago:20260917T210000
DTSTAMP:20260422T025942
CREATED:20250528T194952Z
LAST-MODIFIED:20250701T012907Z
UID:10032773-1789669800-1789678800@plchutch.org
SUMMARY:6:30 Trustees
DESCRIPTION:
URL:https://plchutch.org/event/700-trustees-3-2/2026-09-17/
LOCATION:Peace Lutheran Church\, 400 Franklin St. SW\, Hutchinson\, MN\, 55350\, United States
GEO:44.8873168;-94.3713681
X-APPLE-STRUCTURED-LOCATION;VALUE=URI;X-ADDRESS=Peace Lutheran Church 400 Franklin St. SW Hutchinson MN 55350 United States;X-APPLE-RADIUS=500;X-TITLE=400 Franklin St. SW:geo:-94.3713681,44.8873168
END:VEVENT
BEGIN:VEVENT
DTSTART;TZID=America/Chicago:20260922T100000
DTEND;TZID=America/Chicago:20260922T110000
DTSTAMP:20260422T025942
CREATED:20240504T134855Z
LAST-MODIFIED:20251204T153710Z
UID:10025679-1790071200-1790074800@plchutch.org
SUMMARY:10:00 Women's Bible Study
DESCRIPTION:
URL:https://plchutch.org/event/1000-womens-bible-study-2/2026-09-22/
LOCATION:Peace Lutheran Church\, 400 Franklin St. SW\, Hutchinson\, MN\, 55350\, United States
GEO:44.8873168;-94.3713681
X-APPLE-STRUCTURED-LOCATION;VALUE=URI;X-ADDRESS=Peace Lutheran Church 400 Franklin St. SW Hutchinson MN 55350 United States;X-APPLE-RADIUS=500;X-TITLE=400 Franklin St. SW:geo:-94.3713681,44.8873168
END:VEVENT
BEGIN:VEVENT
DTSTART;TZID=America/Chicago:20260922T183000
DTEND;TZID=America/Chicago:20260922T193000
DTSTAMP:20260422T025942
CREATED:20230817T164705Z
LAST-MODIFIED:20251204T153621Z
UID:10025938-1790101800-1790105400@plchutch.org
SUMMARY:6:30 Promise Keepers
DESCRIPTION:
URL:https://plchutch.org/event/630-promise-keepers-2/2026-09-22/
LOCATION:Peace Lutheran Church\, 400 Franklin St. SW\, Hutchinson\, MN\, 55350\, United States
GEO:44.8873168;-94.3713681
X-APPLE-STRUCTURED-LOCATION;VALUE=URI;X-ADDRESS=Peace Lutheran Church 400 Franklin St. SW Hutchinson MN 55350 United States;X-APPLE-RADIUS=500;X-TITLE=400 Franklin St. SW:geo:-94.3713681,44.8873168
END:VEVENT
BEGIN:VEVENT
DTSTART;TZID=America/Chicago:20260929T100000
DTEND;TZID=America/Chicago:20260929T110000
DTSTAMP:20260422T025942
CREATED:20240504T134855Z
LAST-MODIFIED:20251204T153710Z
UID:10025680-1790676000-1790679600@plchutch.org
SUMMARY:10:00 Women's Bible Study
DESCRIPTION:
URL:https://plchutch.org/event/1000-womens-bible-study-2/2026-09-29/
LOCATION:Peace Lutheran Church\, 400 Franklin St. SW\, Hutchinson\, MN\, 55350\, United States
GEO:44.8873168;-94.3713681
X-APPLE-STRUCTURED-LOCATION;VALUE=URI;X-ADDRESS=Peace Lutheran Church 400 Franklin St. SW Hutchinson MN 55350 United States;X-APPLE-RADIUS=500;X-TITLE=400 Franklin St. SW:geo:-94.3713681,44.8873168
END:VEVENT
BEGIN:VEVENT
DTSTART;TZID=America/Chicago:20260929T183000
DTEND;TZID=America/Chicago:20260929T193000
DTSTAMP:20260422T025942
CREATED:20230817T164705Z
LAST-MODIFIED:20251204T153621Z
UID:10025939-1790706600-1790710200@plchutch.org
SUMMARY:6:30 Promise Keepers
DESCRIPTION:
URL:https://plchutch.org/event/630-promise-keepers-2/2026-09-29/
LOCATION:Peace Lutheran Church\, 400 Franklin St. SW\, Hutchinson\, MN\, 55350\, United States
GEO:44.8873168;-94.3713681
X-APPLE-STRUCTURED-LOCATION;VALUE=URI;X-ADDRESS=Peace Lutheran Church 400 Franklin St. SW Hutchinson MN 55350 United States;X-APPLE-RADIUS=500;X-TITLE=400 Franklin St. SW:geo:-94.3713681,44.8873168
END:VEVENT
BEGIN:VEVENT
DTSTART;TZID=America/Chicago:20261006T100000
DTEND;TZID=America/Chicago:20261006T110000
DTSTAMP:20260422T025942
CREATED:20240504T134855Z
LAST-MODIFIED:20251204T153710Z
UID:10025681-1791280800-1791284400@plchutch.org
SUMMARY:10:00 Women's Bible Study
DESCRIPTION:
URL:https://plchutch.org/event/1000-womens-bible-study-2/2026-10-06/
LOCATION:Peace Lutheran Church\, 400 Franklin St. SW\, Hutchinson\, MN\, 55350\, United States
GEO:44.8873168;-94.3713681
X-APPLE-STRUCTURED-LOCATION;VALUE=URI;X-ADDRESS=Peace Lutheran Church 400 Franklin St. SW Hutchinson MN 55350 United States;X-APPLE-RADIUS=500;X-TITLE=400 Franklin St. SW:geo:-94.3713681,44.8873168
END:VEVENT
BEGIN:VEVENT
DTSTART;TZID=America/Chicago:20261006T183000
DTEND;TZID=America/Chicago:20261006T193000
DTSTAMP:20260422T025942
CREATED:20230817T164705Z
LAST-MODIFIED:20251204T153621Z
UID:10025940-1791311400-1791315000@plchutch.org
SUMMARY:6:30 Promise Keepers
DESCRIPTION:
URL:https://plchutch.org/event/630-promise-keepers-2/2026-10-06/
LOCATION:Peace Lutheran Church\, 400 Franklin St. SW\, Hutchinson\, MN\, 55350\, United States
GEO:44.8873168;-94.3713681
X-APPLE-STRUCTURED-LOCATION;VALUE=URI;X-ADDRESS=Peace Lutheran Church 400 Franklin St. SW Hutchinson MN 55350 United States;X-APPLE-RADIUS=500;X-TITLE=400 Franklin St. SW:geo:-94.3713681,44.8873168
END:VEVENT
BEGIN:VEVENT
DTSTART;TZID=America/Chicago:20261006T183000
DTEND;TZID=America/Chicago:20261006T193000
DTSTAMP:20260422T025942
CREATED:20240427T024833Z
LAST-MODIFIED:20250701T012749Z
UID:10026075-1791311400-1791315000@plchutch.org
SUMMARY:6:30 Elders
DESCRIPTION:
URL:https://plchutch.org/event/630-elders-4-2/2026-10-06/
LOCATION:Peace Lutheran Church\, 400 Franklin St. SW\, Hutchinson\, MN\, 55350\, United States
GEO:44.8873168;-94.3713681
X-APPLE-STRUCTURED-LOCATION;VALUE=URI;X-ADDRESS=Peace Lutheran Church 400 Franklin St. SW Hutchinson MN 55350 United States;X-APPLE-RADIUS=500;X-TITLE=400 Franklin St. SW:geo:-94.3713681,44.8873168
END:VEVENT
BEGIN:VEVENT
DTSTART;TZID=America/Chicago:20261011T083000
DTEND;TZID=America/Chicago:20261011T093000
DTSTAMP:20260422T025942
CREATED:20251007T160557Z
LAST-MODIFIED:20251007T160558Z
UID:10023696-1791707400-1791711000@plchutch.org
SUMMARY:8:30 Worship
DESCRIPTION:
URL:https://plchutch.org/event/830-worship-4-4-2/2026-10-11/
LOCATION:Peace Lutheran Church\, 400 Franklin St. SW\, Hutchinson\, MN\, 55350\, United States
CATEGORIES:Adult Ministry,Featured Events,Public Event,Worship
GEO:44.8873168;-94.3713681
X-APPLE-STRUCTURED-LOCATION;VALUE=URI;X-ADDRESS=Peace Lutheran Church 400 Franklin St. SW Hutchinson MN 55350 United States;X-APPLE-RADIUS=500;X-TITLE=400 Franklin St. SW:geo:-94.3713681,44.8873168
END:VEVENT
BEGIN:VEVENT
DTSTART;TZID=America/Chicago:20261013T100000
DTEND;TZID=America/Chicago:20261013T110000
DTSTAMP:20260422T025942
CREATED:20240504T134855Z
LAST-MODIFIED:20251204T153710Z
UID:10025682-1791885600-1791889200@plchutch.org
SUMMARY:10:00 Women's Bible Study
DESCRIPTION:
URL:https://plchutch.org/event/1000-womens-bible-study-2/2026-10-13/
LOCATION:Peace Lutheran Church\, 400 Franklin St. SW\, Hutchinson\, MN\, 55350\, United States
GEO:44.8873168;-94.3713681
X-APPLE-STRUCTURED-LOCATION;VALUE=URI;X-ADDRESS=Peace Lutheran Church 400 Franklin St. SW Hutchinson MN 55350 United States;X-APPLE-RADIUS=500;X-TITLE=400 Franklin St. SW:geo:-94.3713681,44.8873168
END:VEVENT
BEGIN:VEVENT
DTSTART;TZID=America/Chicago:20261013T183000
DTEND;TZID=America/Chicago:20261013T193000
DTSTAMP:20260422T025942
CREATED:20230817T164705Z
LAST-MODIFIED:20251204T153621Z
UID:10025941-1791916200-1791919800@plchutch.org
SUMMARY:6:30 Promise Keepers
DESCRIPTION:
URL:https://plchutch.org/event/630-promise-keepers-2/2026-10-13/
LOCATION:Peace Lutheran Church\, 400 Franklin St. SW\, Hutchinson\, MN\, 55350\, United States
GEO:44.8873168;-94.3713681
X-APPLE-STRUCTURED-LOCATION;VALUE=URI;X-ADDRESS=Peace Lutheran Church 400 Franklin St. SW Hutchinson MN 55350 United States;X-APPLE-RADIUS=500;X-TITLE=400 Franklin St. SW:geo:-94.3713681,44.8873168
END:VEVENT
BEGIN:VEVENT
DTSTART;TZID=America/Chicago:20261013T183000
DTEND;TZID=America/Chicago:20261013T210000
DTSTAMP:20260422T025942
CREATED:20250802T172514Z
LAST-MODIFIED:20250802T193650Z
UID:10032964-1791916200-1791925200@plchutch.org
SUMMARY:6:30 Church Council
DESCRIPTION:
URL:https://plchutch.org/event/700-church-council-3/2026-10-13/
LOCATION:Peace Lutheran Church\, 400 Franklin St. SW\, Hutchinson\, MN\, 55350\, United States
CATEGORIES:Private Event
GEO:44.8873168;-94.3713681
X-APPLE-STRUCTURED-LOCATION;VALUE=URI;X-ADDRESS=Peace Lutheran Church 400 Franklin St. SW Hutchinson MN 55350 United States;X-APPLE-RADIUS=500;X-TITLE=400 Franklin St. SW:geo:-94.3713681,44.8873168
END:VEVENT
END:VCALENDAR