BEGIN:VCALENDAR
VERSION:2.0
PRODID:-//Peace Lutheran Church - ECPv6.15.20//NONSGML v1.0//EN
CALSCALE:GREGORIAN
METHOD:PUBLISH
X-WR-CALNAME:Peace Lutheran Church
X-ORIGINAL-URL:https://plchutch.org
X-WR-CALDESC:Events for Peace Lutheran Church
REFRESH-INTERVAL;VALUE=DURATION:PT1H
X-Robots-Tag:noindex
X-PUBLISHED-TTL:PT1H
BEGIN:VTIMEZONE
TZID:America/Chicago
BEGIN:DAYLIGHT
TZOFFSETFROM:-0600
TZOFFSETTO:-0500
TZNAME:CDT
DTSTART:20240310T080000
END:DAYLIGHT
BEGIN:STANDARD
TZOFFSETFROM:-0500
TZOFFSETTO:-0600
TZNAME:CST
DTSTART:20241103T070000
END:STANDARD
BEGIN:DAYLIGHT
TZOFFSETFROM:-0600
TZOFFSETTO:-0500
TZNAME:CDT
DTSTART:20250309T080000
END:DAYLIGHT
BEGIN:STANDARD
TZOFFSETFROM:-0500
TZOFFSETTO:-0600
TZNAME:CST
DTSTART:20251102T070000
END:STANDARD
BEGIN:DAYLIGHT
TZOFFSETFROM:-0600
TZOFFSETTO:-0500
TZNAME:CDT
DTSTART:20260308T080000
END:DAYLIGHT
BEGIN:STANDARD
TZOFFSETFROM:-0500
TZOFFSETTO:-0600
TZNAME:CST
DTSTART:20261101T070000
END:STANDARD
END:VTIMEZONE
BEGIN:VEVENT
DTSTART;TZID=America/Chicago:20250427T083000
DTEND;TZID=America/Chicago:20250427T093000
DTSTAMP:20260422T172207
CREATED:20241210T222809Z
LAST-MODIFIED:20241210T222809Z
UID:10023856-1745742600-1745746200@plchutch.org
SUMMARY:8:30 Worship
DESCRIPTION:
URL:https://plchutch.org/event/830-worship-5-3/2025-04-27/
LOCATION:Peace Lutheran Church\, 400 Franklin St. SW\, Hutchinson\, MN\, 55350\, United States
CATEGORIES:Adult Ministry,Children Ministry,Featured Events,Public Event,Worship
GEO:44.8873168;-94.3713681
X-APPLE-STRUCTURED-LOCATION;VALUE=URI;X-ADDRESS=Peace Lutheran Church 400 Franklin St. SW Hutchinson MN 55350 United States;X-APPLE-RADIUS=500;X-TITLE=400 Franklin St. SW:geo:-94.3713681,44.8873168
END:VEVENT
BEGIN:VEVENT
DTSTART;TZID=America/Chicago:20250427T093000
DTEND;TZID=America/Chicago:20250427T103000
DTSTAMP:20260422T172207
CREATED:20241220T174927Z
LAST-MODIFIED:20250407T142839Z
UID:10032584-1745746200-1745749800@plchutch.org
SUMMARY:9:40 Adult Bible Study
DESCRIPTION:
URL:https://plchutch.org/event/940-adult-bible-study-4/2025-04-27/
LOCATION:Peace Lutheran Church\, 400 Franklin St. SW\, Hutchinson\, MN\, 55350\, United States
GEO:44.8873168;-94.3713681
X-APPLE-STRUCTURED-LOCATION;VALUE=URI;X-ADDRESS=Peace Lutheran Church 400 Franklin St. SW Hutchinson MN 55350 United States;X-APPLE-RADIUS=500;X-TITLE=400 Franklin St. SW:geo:-94.3713681,44.8873168
END:VEVENT
BEGIN:VEVENT
DTSTART;TZID=America/Chicago:20250427T094000
DTEND;TZID=America/Chicago:20250427T102500
DTSTAMP:20260422T172207
CREATED:20250222T203957Z
LAST-MODIFIED:20250424T035521Z
UID:10032587-1745746800-1745749500@plchutch.org
SUMMARY:9:40 Sunday School
DESCRIPTION:
URL:https://plchutch.org/event/940-sunday-school-2/2025-04-27/
LOCATION:Peace Lutheran Church\, 400 Franklin St. SW\, Hutchinson\, MN\, 55350\, United States
GEO:44.8873168;-94.3713681
X-APPLE-STRUCTURED-LOCATION;VALUE=URI;X-ADDRESS=Peace Lutheran Church 400 Franklin St. SW Hutchinson MN 55350 United States;X-APPLE-RADIUS=500;X-TITLE=400 Franklin St. SW:geo:-94.3713681,44.8873168
END:VEVENT
BEGIN:VEVENT
DTSTART;TZID=America/Chicago:20250427T103000
DTEND;TZID=America/Chicago:20250427T113000
DTSTAMP:20260422T172207
CREATED:20250407T143636Z
LAST-MODIFIED:20250407T143636Z
UID:10032591-1745749800-1745753400@plchutch.org
SUMMARY:10:30 Worship w/Communion
DESCRIPTION:
URL:https://plchutch.org/event/1030-worship-w-communion/2025-04-27/
LOCATION:Peace Lutheran Church\, 400 Franklin St. SW\, Hutchinson\, MN\, 55350\, United States
GEO:44.8873168;-94.3713681
X-APPLE-STRUCTURED-LOCATION;VALUE=URI;X-ADDRESS=Peace Lutheran Church 400 Franklin St. SW Hutchinson MN 55350 United States;X-APPLE-RADIUS=500;X-TITLE=400 Franklin St. SW:geo:-94.3713681,44.8873168
END:VEVENT
BEGIN:VEVENT
DTSTART;TZID=America/Chicago:20250428T130000
DTEND;TZID=America/Chicago:20250428T143000
DTSTAMP:20260422T172207
CREATED:20250222T184742Z
LAST-MODIFIED:20250323T191943Z
UID:10032555-1745845200-1745850600@plchutch.org
SUMMARY:1-2:30 Grief Share
DESCRIPTION:
URL:https://plchutch.org/event/1-230-grief-share/2025-04-28/
LOCATION:Peace Lutheran Church\, 400 Franklin St. SW\, Hutchinson\, MN\, 55350\, United States
GEO:44.8873168;-94.3713681
X-APPLE-STRUCTURED-LOCATION;VALUE=URI;X-ADDRESS=Peace Lutheran Church 400 Franklin St. SW Hutchinson MN 55350 United States;X-APPLE-RADIUS=500;X-TITLE=400 Franklin St. SW:geo:-94.3713681,44.8873168
END:VEVENT
BEGIN:VEVENT
DTSTART;VALUE=DATE:20250429
DTEND;VALUE=DATE:20250430
DTSTAMP:20260422T172207
CREATED:20250331T165625Z
LAST-MODIFIED:20250331T165625Z
UID:10032567-1745884800-1745971199@plchutch.org
SUMMARY:Pizza Pick-up Day
DESCRIPTION:
URL:https://plchutch.org/event/pizza-pick-up-day/
LOCATION:Peace Lutheran Church\, 400 Franklin St. SW\, Hutchinson\, MN\, 55350\, United States
GEO:44.8873168;-94.3713681
X-APPLE-STRUCTURED-LOCATION;VALUE=URI;X-ADDRESS=Peace Lutheran Church 400 Franklin St. SW Hutchinson MN 55350 United States;X-APPLE-RADIUS=500;X-TITLE=400 Franklin St. SW:geo:-94.3713681,44.8873168
END:VEVENT
BEGIN:VEVENT
DTSTART;TZID=America/Chicago:20250429T063000
DTEND;TZID=America/Chicago:20250429T193000
DTSTAMP:20260422T172207
CREATED:20250331T172231Z
LAST-MODIFIED:20250331T172231Z
UID:10032578-1745908200-1745955000@plchutch.org
SUMMARY:6:45 Men's Bible Study
DESCRIPTION:
URL:https://plchutch.org/event/645-mens-bible-study/2025-04-29/
LOCATION:Peace Lutheran Church\, 400 Franklin St. SW\, Hutchinson\, MN\, 55350\, United States
GEO:44.8873168;-94.3713681
X-APPLE-STRUCTURED-LOCATION;VALUE=URI;X-ADDRESS=Peace Lutheran Church 400 Franklin St. SW Hutchinson MN 55350 United States;X-APPLE-RADIUS=500;X-TITLE=400 Franklin St. SW:geo:-94.3713681,44.8873168
END:VEVENT
BEGIN:VEVENT
DTSTART;TZID=America/Chicago:20250429T100000
DTEND;TZID=America/Chicago:20250429T110000
DTSTAMP:20260422T172207
CREATED:20240504T134855Z
LAST-MODIFIED:20251204T153710Z
UID:10025606-1745920800-1745924400@plchutch.org
SUMMARY:10:00 Women's Bible Study
DESCRIPTION:
URL:https://plchutch.org/event/1000-womens-bible-study-2/2025-04-29/
LOCATION:Peace Lutheran Church\, 400 Franklin St. SW\, Hutchinson\, MN\, 55350\, United States
GEO:44.8873168;-94.3713681
X-APPLE-STRUCTURED-LOCATION;VALUE=URI;X-ADDRESS=Peace Lutheran Church 400 Franklin St. SW Hutchinson MN 55350 United States;X-APPLE-RADIUS=500;X-TITLE=400 Franklin St. SW:geo:-94.3713681,44.8873168
END:VEVENT
BEGIN:VEVENT
DTSTART;TZID=America/Chicago:20250429T150000
DTEND;TZID=America/Chicago:20250429T160000
DTSTAMP:20260422T172207
CREATED:20250424T035301Z
LAST-MODIFIED:20250424T035301Z
UID:10032697-1745938800-1745942400@plchutch.org
SUMMARY:3:00 Proverbs Bible Study
DESCRIPTION:
URL:https://plchutch.org/event/300-proverbs-bible-study-5/2025-04-29/
LOCATION:Peace Lutheran Church\, 400 Franklin St. SW\, Hutchinson\, MN\, 55350\, United States
GEO:44.8873168;-94.3713681
X-APPLE-STRUCTURED-LOCATION;VALUE=URI;X-ADDRESS=Peace Lutheran Church 400 Franklin St. SW Hutchinson MN 55350 United States;X-APPLE-RADIUS=500;X-TITLE=400 Franklin St. SW:geo:-94.3713681,44.8873168
END:VEVENT
BEGIN:VEVENT
DTSTART;TZID=America/Chicago:20250429T183000
DTEND;TZID=America/Chicago:20250429T193000
DTSTAMP:20260422T172207
CREATED:20230817T164705Z
LAST-MODIFIED:20251204T153621Z
UID:10025865-1745951400-1745955000@plchutch.org
SUMMARY:6:30 Promise Keepers
DESCRIPTION:
URL:https://plchutch.org/event/630-promise-keepers-2/2025-04-29/
LOCATION:Peace Lutheran Church\, 400 Franklin St. SW\, Hutchinson\, MN\, 55350\, United States
GEO:44.8873168;-94.3713681
X-APPLE-STRUCTURED-LOCATION;VALUE=URI;X-ADDRESS=Peace Lutheran Church 400 Franklin St. SW Hutchinson MN 55350 United States;X-APPLE-RADIUS=500;X-TITLE=400 Franklin St. SW:geo:-94.3713681,44.8873168
END:VEVENT
BEGIN:VEVENT
DTSTART;TZID=America/Chicago:20250430T100000
DTEND;TZID=America/Chicago:20250430T230000
DTSTAMP:20260422T172207
CREATED:20250331T170640Z
LAST-MODIFIED:20250331T170640Z
UID:10032572-1746007200-1746054000@plchutch.org
SUMMARY:10:00 Body & Soul
DESCRIPTION:
URL:https://plchutch.org/event/1000-body-soul-3/2025-04-30/
LOCATION:Peace Lutheran Church\, 400 Franklin St. SW\, Hutchinson\, MN\, 55350\, United States
GEO:44.8873168;-94.3713681
X-APPLE-STRUCTURED-LOCATION;VALUE=URI;X-ADDRESS=Peace Lutheran Church 400 Franklin St. SW Hutchinson MN 55350 United States;X-APPLE-RADIUS=500;X-TITLE=400 Franklin St. SW:geo:-94.3713681,44.8873168
END:VEVENT
BEGIN:VEVENT
DTSTART;TZID=America/Chicago:20250430T114500
DTEND;TZID=America/Chicago:20250430T130000
DTSTAMP:20260422T172207
CREATED:20250407T151710Z
LAST-MODIFIED:20250407T151710Z
UID:10032679-1746013500-1746018000@plchutch.org
SUMMARY:11:45 Bible Study & Lunch
DESCRIPTION:
URL:https://plchutch.org/event/1145-bible-study-lunch/2025-04-30/
LOCATION:Peace Lutheran Church\, 400 Franklin St. SW\, Hutchinson\, MN\, 55350\, United States
GEO:44.8873168;-94.3713681
X-APPLE-STRUCTURED-LOCATION;VALUE=URI;X-ADDRESS=Peace Lutheran Church 400 Franklin St. SW Hutchinson MN 55350 United States;X-APPLE-RADIUS=500;X-TITLE=400 Franklin St. SW:geo:-94.3713681,44.8873168
END:VEVENT
BEGIN:VEVENT
DTSTART;TZID=America/Chicago:20250430T170000
DTEND;TZID=America/Chicago:20250430T190000
DTSTAMP:20260422T172207
CREATED:20250407T152012Z
LAST-MODIFIED:20250407T152012Z
UID:10032682-1746032400-1746039600@plchutch.org
SUMMARY:5:00 Statement of Faith Confirmation
DESCRIPTION:
URL:https://plchutch.org/event/500-statement-of-faith-confirmation/
LOCATION:Peace Lutheran Church\, 400 Franklin St. SW\, Hutchinson\, MN\, 55350\, United States
GEO:44.8873168;-94.3713681
X-APPLE-STRUCTURED-LOCATION;VALUE=URI;X-ADDRESS=Peace Lutheran Church 400 Franklin St. SW Hutchinson MN 55350 United States;X-APPLE-RADIUS=500;X-TITLE=400 Franklin St. SW:geo:-94.3713681,44.8873168
END:VEVENT
BEGIN:VEVENT
DTSTART;TZID=America/Chicago:20250430T173000
DTEND;TZID=America/Chicago:20250430T183000
DTSTAMP:20260422T172207
CREATED:20250407T162324Z
LAST-MODIFIED:20250407T162324Z
UID:10032686-1746034200-1746037800@plchutch.org
SUMMARY:5:30 Choir
DESCRIPTION:
URL:https://plchutch.org/event/530-choir/2025-04-30/
LOCATION:Peace Lutheran Church\, 400 Franklin St. SW\, Hutchinson\, MN\, 55350\, United States
GEO:44.8873168;-94.3713681
X-APPLE-STRUCTURED-LOCATION;VALUE=URI;X-ADDRESS=Peace Lutheran Church 400 Franklin St. SW Hutchinson MN 55350 United States;X-APPLE-RADIUS=500;X-TITLE=400 Franklin St. SW:geo:-94.3713681,44.8873168
END:VEVENT
BEGIN:VEVENT
DTSTART;TZID=America/Chicago:20250430T183000
DTEND;TZID=America/Chicago:20250430T193000
DTSTAMP:20260422T172207
CREATED:20250407T162458Z
LAST-MODIFIED:20250407T162458Z
UID:10032689-1746037800-1746041400@plchutch.org
SUMMARY:6:30 Handbells
DESCRIPTION:
URL:https://plchutch.org/event/630-handbells-8/2025-04-30/
LOCATION:Peace Lutheran Church\, 400 Franklin St. SW\, Hutchinson\, MN\, 55350\, United States
GEO:44.8873168;-94.3713681
X-APPLE-STRUCTURED-LOCATION;VALUE=URI;X-ADDRESS=Peace Lutheran Church 400 Franklin St. SW Hutchinson MN 55350 United States;X-APPLE-RADIUS=500;X-TITLE=400 Franklin St. SW:geo:-94.3713681,44.8873168
END:VEVENT
BEGIN:VEVENT
DTSTART;TZID=America/Chicago:20250501T100000
DTEND;TZID=America/Chicago:20250501T180000
DTSTAMP:20260422T172207
CREATED:20250424T034411Z
LAST-MODIFIED:20250424T034411Z
UID:10032691-1746093600-1746122400@plchutch.org
SUMMARY:10-6 Occasional Sale
DESCRIPTION:
URL:https://plchutch.org/event/10-6-occasional-sale-3/
LOCATION:Peace Lutheran Church\, 400 Franklin St. SW\, Hutchinson\, MN\, 55350\, United States
GEO:44.8873168;-94.3713681
X-APPLE-STRUCTURED-LOCATION;VALUE=URI;X-ADDRESS=Peace Lutheran Church 400 Franklin St. SW Hutchinson MN 55350 United States;X-APPLE-RADIUS=500;X-TITLE=400 Franklin St. SW:geo:-94.3713681,44.8873168
END:VEVENT
BEGIN:VEVENT
DTSTART;TZID=America/Chicago:20250503T183000
DTEND;TZID=America/Chicago:20250503T193000
DTSTAMP:20260422T172207
CREATED:20250424T034706Z
LAST-MODIFIED:20250424T034706Z
UID:10032692-1746297000-1746300600@plchutch.org
SUMMARY:6:30 Worship w/communion
DESCRIPTION:
URL:https://plchutch.org/event/630-worship-w-communion-5/2025-05-03/
LOCATION:Peace Lutheran Church\, 400 Franklin St. SW\, Hutchinson\, MN\, 55350\, United States
GEO:44.8873168;-94.3713681
X-APPLE-STRUCTURED-LOCATION;VALUE=URI;X-ADDRESS=Peace Lutheran Church 400 Franklin St. SW Hutchinson MN 55350 United States;X-APPLE-RADIUS=500;X-TITLE=400 Franklin St. SW:geo:-94.3713681,44.8873168
END:VEVENT
END:VCALENDAR