BEGIN:VCALENDAR
VERSION:2.0
PRODID:-//Peace Lutheran Church - ECPv6.15.20//NONSGML v1.0//EN
CALSCALE:GREGORIAN
METHOD:PUBLISH
X-ORIGINAL-URL:https://plchutch.org
X-WR-CALDESC:Events for Peace Lutheran Church
REFRESH-INTERVAL;VALUE=DURATION:PT1H
X-Robots-Tag:noindex
X-PUBLISHED-TTL:PT1H
BEGIN:VTIMEZONE
TZID:America/Chicago
BEGIN:DAYLIGHT
TZOFFSETFROM:-0600
TZOFFSETTO:-0500
TZNAME:CDT
DTSTART:20240310T080000
END:DAYLIGHT
BEGIN:STANDARD
TZOFFSETFROM:-0500
TZOFFSETTO:-0600
TZNAME:CST
DTSTART:20241103T070000
END:STANDARD
BEGIN:DAYLIGHT
TZOFFSETFROM:-0600
TZOFFSETTO:-0500
TZNAME:CDT
DTSTART:20250309T080000
END:DAYLIGHT
BEGIN:STANDARD
TZOFFSETFROM:-0500
TZOFFSETTO:-0600
TZNAME:CST
DTSTART:20251102T070000
END:STANDARD
BEGIN:DAYLIGHT
TZOFFSETFROM:-0600
TZOFFSETTO:-0500
TZNAME:CDT
DTSTART:20260308T080000
END:DAYLIGHT
BEGIN:STANDARD
TZOFFSETFROM:-0500
TZOFFSETTO:-0600
TZNAME:CST
DTSTART:20261101T070000
END:STANDARD
END:VTIMEZONE
BEGIN:VEVENT
DTSTART;TZID=America/Chicago:20250810T093000
DTEND;TZID=America/Chicago:20250810T103000
DTSTAMP:20260421T235654
CREATED:20250802T193231Z
LAST-MODIFIED:20250802T193231Z
UID:10032930-1754818200-1754821800@plchutch.org
SUMMARY:9:40 Bible Study
DESCRIPTION:
URL:https://plchutch.org/event/940-bible-study-3/2025-08-10/
LOCATION:Peace Lutheran Church\, 400 Franklin St. SW\, Hutchinson\, MN\, 55350\, United States
GEO:44.8873168;-94.3713681
X-APPLE-STRUCTURED-LOCATION;VALUE=URI;X-ADDRESS=Peace Lutheran Church 400 Franklin St. SW Hutchinson MN 55350 United States;X-APPLE-RADIUS=500;X-TITLE=400 Franklin St. SW:geo:-94.3713681,44.8873168
END:VEVENT
BEGIN:VEVENT
DTSTART;TZID=America/Chicago:20250810T093000
DTEND;TZID=America/Chicago:20250810T103000
DTSTAMP:20260421T235654
CREATED:20250802T193327Z
LAST-MODIFIED:20250802T193327Z
UID:10032933-1754818200-1754821800@plchutch.org
SUMMARY:9:30 Blood Pressure Checks
DESCRIPTION:
URL:https://plchutch.org/event/930-blood-pressure-checks/
LOCATION:Peace Lutheran Church\, 400 Franklin St. SW\, Hutchinson\, MN\, 55350\, United States
GEO:44.8873168;-94.3713681
X-APPLE-STRUCTURED-LOCATION;VALUE=URI;X-ADDRESS=Peace Lutheran Church 400 Franklin St. SW Hutchinson MN 55350 United States;X-APPLE-RADIUS=500;X-TITLE=400 Franklin St. SW:geo:-94.3713681,44.8873168
END:VEVENT
BEGIN:VEVENT
DTSTART;VALUE=DATE:20250811
DTEND;VALUE=DATE:20250812
DTSTAMP:20260421T235654
CREATED:20250528T193029Z
LAST-MODIFIED:20251007T155351Z
UID:10032919-1754899200-1754931600@plchutch.org
SUMMARY:Office Closed
DESCRIPTION:
URL:https://plchutch.org/event/office-closed/2025-08-11/
LOCATION:Peace Lutheran Church\, 400 Franklin St. SW\, Hutchinson\, MN\, 55350\, United States
GEO:44.8873168;-94.3713681
X-APPLE-STRUCTURED-LOCATION;VALUE=URI;X-ADDRESS=Peace Lutheran Church 400 Franklin St. SW Hutchinson MN 55350 United States;X-APPLE-RADIUS=500;X-TITLE=400 Franklin St. SW:geo:-94.3713681,44.8873168
END:VEVENT
BEGIN:VEVENT
DTSTART;TZID=America/Chicago:20250811T130000
DTEND;TZID=America/Chicago:20250811T170000
DTSTAMP:20260421T235654
CREATED:20250802T193413Z
LAST-MODIFIED:20250802T193413Z
UID:10032934-1754917200-1754931600@plchutch.org
SUMMARY:1-5 Drivers Training
DESCRIPTION:
URL:https://plchutch.org/event/1-5-drivers-training-4/
LOCATION:Peace Lutheran Church\, 400 Franklin St. SW\, Hutchinson\, MN\, 55350\, United States
GEO:44.8873168;-94.3713681
X-APPLE-STRUCTURED-LOCATION;VALUE=URI;X-ADDRESS=Peace Lutheran Church 400 Franklin St. SW Hutchinson MN 55350 United States;X-APPLE-RADIUS=500;X-TITLE=400 Franklin St. SW:geo:-94.3713681,44.8873168
END:VEVENT
BEGIN:VEVENT
DTSTART;TZID=America/Chicago:20250811T183000
DTEND;TZID=America/Chicago:20250811T193000
DTSTAMP:20260421T235654
CREATED:20250802T193446Z
LAST-MODIFIED:20250802T193446Z
UID:10032935-1754937000-1754940600@plchutch.org
SUMMARY:6:30 Council
DESCRIPTION:
URL:https://plchutch.org/event/630-council/
LOCATION:Peace Lutheran Church\, 400 Franklin St. SW\, Hutchinson\, MN\, 55350\, United States
GEO:44.8873168;-94.3713681
X-APPLE-STRUCTURED-LOCATION;VALUE=URI;X-ADDRESS=Peace Lutheran Church 400 Franklin St. SW Hutchinson MN 55350 United States;X-APPLE-RADIUS=500;X-TITLE=400 Franklin St. SW:geo:-94.3713681,44.8873168
END:VEVENT
BEGIN:VEVENT
DTSTART;TZID=America/Chicago:20250812T063000
DTEND;TZID=America/Chicago:20250812T073000
DTSTAMP:20260421T235654
CREATED:20250730T135523Z
LAST-MODIFIED:20250730T161024Z
UID:10032905-1754980200-1754983800@plchutch.org
SUMMARY:6:45-7:45 Men's Bible Study
DESCRIPTION:
URL:https://plchutch.org/event/645-745-mens-bible-study-2/2025-08-12/
LOCATION:Peace Lutheran Church\, 400 Franklin St. SW\, Hutchinson\, MN\, 55350\, United States
GEO:44.8873168;-94.3713681
X-APPLE-STRUCTURED-LOCATION;VALUE=URI;X-ADDRESS=Peace Lutheran Church 400 Franklin St. SW Hutchinson MN 55350 United States;X-APPLE-RADIUS=500;X-TITLE=400 Franklin St. SW:geo:-94.3713681,44.8873168
END:VEVENT
BEGIN:VEVENT
DTSTART;TZID=America/Chicago:20250812T100000
DTEND;TZID=America/Chicago:20250812T110000
DTSTAMP:20260421T235654
CREATED:20240504T134855Z
LAST-MODIFIED:20251204T153710Z
UID:10025621-1754992800-1754996400@plchutch.org
SUMMARY:10:00 Women's Bible Study
DESCRIPTION:
URL:https://plchutch.org/event/1000-womens-bible-study-2/2025-08-12/
LOCATION:Peace Lutheran Church\, 400 Franklin St. SW\, Hutchinson\, MN\, 55350\, United States
GEO:44.8873168;-94.3713681
X-APPLE-STRUCTURED-LOCATION;VALUE=URI;X-ADDRESS=Peace Lutheran Church 400 Franklin St. SW Hutchinson MN 55350 United States;X-APPLE-RADIUS=500;X-TITLE=400 Franklin St. SW:geo:-94.3713681,44.8873168
END:VEVENT
BEGIN:VEVENT
DTSTART;TZID=America/Chicago:20250812T120000
DTEND;TZID=America/Chicago:20250812T180000
DTSTAMP:20260421T235654
CREATED:20250802T194144Z
LAST-MODIFIED:20250802T194144Z
UID:10033012-1755000000-1755021600@plchutch.org
SUMMARY:12-6 Bloodmobile
DESCRIPTION:
URL:https://plchutch.org/event/12-6-bloodmobile-3/
LOCATION:Peace Lutheran Church\, 400 Franklin St. SW\, Hutchinson\, MN\, 55350\, United States
GEO:44.8873168;-94.3713681
X-APPLE-STRUCTURED-LOCATION;VALUE=URI;X-ADDRESS=Peace Lutheran Church 400 Franklin St. SW Hutchinson MN 55350 United States;X-APPLE-RADIUS=500;X-TITLE=400 Franklin St. SW:geo:-94.3713681,44.8873168
END:VEVENT
BEGIN:VEVENT
DTSTART;TZID=America/Chicago:20250812T183000
DTEND;TZID=America/Chicago:20250812T193000
DTSTAMP:20260421T235654
CREATED:20230817T164705Z
LAST-MODIFIED:20251204T153621Z
UID:10025880-1755023400-1755027000@plchutch.org
SUMMARY:6:30 Promise Keepers
DESCRIPTION:
URL:https://plchutch.org/event/630-promise-keepers-2/2025-08-12/
LOCATION:Peace Lutheran Church\, 400 Franklin St. SW\, Hutchinson\, MN\, 55350\, United States
GEO:44.8873168;-94.3713681
X-APPLE-STRUCTURED-LOCATION;VALUE=URI;X-ADDRESS=Peace Lutheran Church 400 Franklin St. SW Hutchinson MN 55350 United States;X-APPLE-RADIUS=500;X-TITLE=400 Franklin St. SW:geo:-94.3713681,44.8873168
END:VEVENT
BEGIN:VEVENT
DTSTART;TZID=America/Chicago:20250813T090000
DTEND;TZID=America/Chicago:20250813T100000
DTSTAMP:20260421T235654
CREATED:20250729T140502Z
LAST-MODIFIED:20250729T140502Z
UID:10032890-1755075600-1755079200@plchutch.org
SUMMARY:9:00 Parish Health
DESCRIPTION:
URL:https://plchutch.org/event/900-parish-health/
LOCATION:Peace Lutheran Church\, 400 Franklin St. SW\, Hutchinson\, MN\, 55350\, United States
GEO:44.8873168;-94.3713681
X-APPLE-STRUCTURED-LOCATION;VALUE=URI;X-ADDRESS=Peace Lutheran Church 400 Franklin St. SW Hutchinson MN 55350 United States;X-APPLE-RADIUS=500;X-TITLE=400 Franklin St. SW:geo:-94.3713681,44.8873168
END:VEVENT
BEGIN:VEVENT
DTSTART;TZID=America/Chicago:20250813T180000
DTEND;TZID=America/Chicago:20250813T193000
DTSTAMP:20260421T235654
CREATED:20250809T215644Z
LAST-MODIFIED:20250809T215644Z
UID:10033014-1755108000-1755113400@plchutch.org
SUMMARY:6:00-7:30pm Youth Night Volleyball
DESCRIPTION:
URL:https://plchutch.org/event/600-730pm-youth-night-volleyball/
LOCATION:Peace Lutheran Church\, 400 Franklin St. SW\, Hutchinson\, MN\, 55350\, United States
GEO:44.8873168;-94.3713681
X-APPLE-STRUCTURED-LOCATION;VALUE=URI;X-ADDRESS=Peace Lutheran Church 400 Franklin St. SW Hutchinson MN 55350 United States;X-APPLE-RADIUS=500;X-TITLE=400 Franklin St. SW:geo:-94.3713681,44.8873168
END:VEVENT
BEGIN:VEVENT
DTSTART;TZID=America/Chicago:20250816T063000
DTEND;TZID=America/Chicago:20250816T073000
DTSTAMP:20260421T235654
CREATED:20250730T135523Z
LAST-MODIFIED:20250730T161024Z
UID:10032906-1755325800-1755329400@plchutch.org
SUMMARY:6:45-7:45 Men's Bible Study
DESCRIPTION:
URL:https://plchutch.org/event/645-745-mens-bible-study-2/2025-08-16/
LOCATION:Peace Lutheran Church\, 400 Franklin St. SW\, Hutchinson\, MN\, 55350\, United States
GEO:44.8873168;-94.3713681
X-APPLE-STRUCTURED-LOCATION;VALUE=URI;X-ADDRESS=Peace Lutheran Church 400 Franklin St. SW Hutchinson MN 55350 United States;X-APPLE-RADIUS=500;X-TITLE=400 Franklin St. SW:geo:-94.3713681,44.8873168
END:VEVENT
BEGIN:VEVENT
DTSTART;TZID=America/Chicago:20250816T183000
DTEND;TZID=America/Chicago:20250816T193000
DTSTAMP:20260421T235654
CREATED:20250802T192157Z
LAST-MODIFIED:20250802T192157Z
UID:10032911-1755369000-1755372600@plchutch.org
SUMMARY:6:30 Worship with Communion
DESCRIPTION:
URL:https://plchutch.org/event/630-worship-with-communion/2025-08-16/
LOCATION:Peace Lutheran Church\, 400 Franklin St. SW\, Hutchinson\, MN\, 55350\, United States
GEO:44.8873168;-94.3713681
X-APPLE-STRUCTURED-LOCATION;VALUE=URI;X-ADDRESS=Peace Lutheran Church 400 Franklin St. SW Hutchinson MN 55350 United States;X-APPLE-RADIUS=500;X-TITLE=400 Franklin St. SW:geo:-94.3713681,44.8873168
END:VEVENT
END:VCALENDAR