BEGIN:VCALENDAR
VERSION:2.0
PRODID:-//Peace Lutheran Church - ECPv6.15.20//NONSGML v1.0//EN
CALSCALE:GREGORIAN
METHOD:PUBLISH
X-ORIGINAL-URL:https://plchutch.org
X-WR-CALDESC:Events for Peace Lutheran Church
REFRESH-INTERVAL;VALUE=DURATION:PT1H
X-Robots-Tag:noindex
X-PUBLISHED-TTL:PT1H
BEGIN:VTIMEZONE
TZID:America/Chicago
BEGIN:DAYLIGHT
TZOFFSETFROM:-0600
TZOFFSETTO:-0500
TZNAME:CDT
DTSTART:20240310T080000
END:DAYLIGHT
BEGIN:STANDARD
TZOFFSETFROM:-0500
TZOFFSETTO:-0600
TZNAME:CST
DTSTART:20241103T070000
END:STANDARD
BEGIN:DAYLIGHT
TZOFFSETFROM:-0600
TZOFFSETTO:-0500
TZNAME:CDT
DTSTART:20250309T080000
END:DAYLIGHT
BEGIN:STANDARD
TZOFFSETFROM:-0500
TZOFFSETTO:-0600
TZNAME:CST
DTSTART:20251102T070000
END:STANDARD
BEGIN:DAYLIGHT
TZOFFSETFROM:-0600
TZOFFSETTO:-0500
TZNAME:CDT
DTSTART:20260308T080000
END:DAYLIGHT
BEGIN:STANDARD
TZOFFSETFROM:-0500
TZOFFSETTO:-0600
TZNAME:CST
DTSTART:20261101T070000
END:STANDARD
END:VTIMEZONE
BEGIN:VEVENT
DTSTART;TZID=America/Chicago:20250817T083000
DTEND;TZID=America/Chicago:20250817T093000
DTSTAMP:20260422T014944
CREATED:20250802T192422Z
LAST-MODIFIED:20250802T192422Z
UID:10032915-1755419400-1755423000@plchutch.org
SUMMARY:8:30 Worship with Communion
DESCRIPTION:
URL:https://plchutch.org/event/830-worship-with-communion/2025-08-17/
LOCATION:Peace Lutheran Church\, 400 Franklin St. SW\, Hutchinson\, MN\, 55350\, United States
GEO:44.8873168;-94.3713681
X-APPLE-STRUCTURED-LOCATION;VALUE=URI;X-ADDRESS=Peace Lutheran Church 400 Franklin St. SW Hutchinson MN 55350 United States;X-APPLE-RADIUS=500;X-TITLE=400 Franklin St. SW:geo:-94.3713681,44.8873168
END:VEVENT
BEGIN:VEVENT
DTSTART;TZID=America/Chicago:20250817T093000
DTEND;TZID=America/Chicago:20250817T103000
DTSTAMP:20260422T014944
CREATED:20250802T193231Z
LAST-MODIFIED:20250802T193231Z
UID:10032931-1755423000-1755426600@plchutch.org
SUMMARY:9:40 Bible Study
DESCRIPTION:
URL:https://plchutch.org/event/940-bible-study-3/2025-08-17/
LOCATION:Peace Lutheran Church\, 400 Franklin St. SW\, Hutchinson\, MN\, 55350\, United States
GEO:44.8873168;-94.3713681
X-APPLE-STRUCTURED-LOCATION;VALUE=URI;X-ADDRESS=Peace Lutheran Church 400 Franklin St. SW Hutchinson MN 55350 United States;X-APPLE-RADIUS=500;X-TITLE=400 Franklin St. SW:geo:-94.3713681,44.8873168
END:VEVENT
BEGIN:VEVENT
DTSTART;TZID=America/Chicago:20250817T103000
DTEND;TZID=America/Chicago:20250817T113000
DTSTAMP:20260422T014944
CREATED:20250802T192716Z
LAST-MODIFIED:20250802T192716Z
UID:10032917-1755426600-1755430200@plchutch.org
SUMMARY:10:30 Worship
DESCRIPTION:
URL:https://plchutch.org/event/1030-worship-14/2025-08-17/
LOCATION:Peace Lutheran Church\, 400 Franklin St. SW\, Hutchinson\, MN\, 55350\, United States
GEO:44.8873168;-94.3713681
X-APPLE-STRUCTURED-LOCATION;VALUE=URI;X-ADDRESS=Peace Lutheran Church 400 Franklin St. SW Hutchinson MN 55350 United States;X-APPLE-RADIUS=500;X-TITLE=400 Franklin St. SW:geo:-94.3713681,44.8873168
END:VEVENT
BEGIN:VEVENT
DTSTART;VALUE=DATE:20250818
DTEND;VALUE=DATE:20250819
DTSTAMP:20260422T014944
CREATED:20250528T193029Z
LAST-MODIFIED:20251007T155351Z
UID:10032920-1755504000-1755536400@plchutch.org
SUMMARY:Office Closed
DESCRIPTION:
URL:https://plchutch.org/event/office-closed/2025-08-18/
LOCATION:Peace Lutheran Church\, 400 Franklin St. SW\, Hutchinson\, MN\, 55350\, United States
GEO:44.8873168;-94.3713681
X-APPLE-STRUCTURED-LOCATION;VALUE=URI;X-ADDRESS=Peace Lutheran Church 400 Franklin St. SW Hutchinson MN 55350 United States;X-APPLE-RADIUS=500;X-TITLE=400 Franklin St. SW:geo:-94.3713681,44.8873168
END:VEVENT
BEGIN:VEVENT
DTSTART;TZID=America/Chicago:20250819T063000
DTEND;TZID=America/Chicago:20250819T073000
DTSTAMP:20260422T014944
CREATED:20250730T135523Z
LAST-MODIFIED:20250730T161024Z
UID:10032907-1755585000-1755588600@plchutch.org
SUMMARY:6:45-7:45 Men's Bible Study
DESCRIPTION:
URL:https://plchutch.org/event/645-745-mens-bible-study-2/2025-08-19/
LOCATION:Peace Lutheran Church\, 400 Franklin St. SW\, Hutchinson\, MN\, 55350\, United States
GEO:44.8873168;-94.3713681
X-APPLE-STRUCTURED-LOCATION;VALUE=URI;X-ADDRESS=Peace Lutheran Church 400 Franklin St. SW Hutchinson MN 55350 United States;X-APPLE-RADIUS=500;X-TITLE=400 Franklin St. SW:geo:-94.3713681,44.8873168
END:VEVENT
BEGIN:VEVENT
DTSTART;TZID=America/Chicago:20250819T100000
DTEND;TZID=America/Chicago:20250819T110000
DTSTAMP:20260422T014944
CREATED:20240504T134855Z
LAST-MODIFIED:20251204T153710Z
UID:10025622-1755597600-1755601200@plchutch.org
SUMMARY:10:00 Women's Bible Study
DESCRIPTION:
URL:https://plchutch.org/event/1000-womens-bible-study-2/2025-08-19/
LOCATION:Peace Lutheran Church\, 400 Franklin St. SW\, Hutchinson\, MN\, 55350\, United States
GEO:44.8873168;-94.3713681
X-APPLE-STRUCTURED-LOCATION;VALUE=URI;X-ADDRESS=Peace Lutheran Church 400 Franklin St. SW Hutchinson MN 55350 United States;X-APPLE-RADIUS=500;X-TITLE=400 Franklin St. SW:geo:-94.3713681,44.8873168
END:VEVENT
BEGIN:VEVENT
DTSTART;TZID=America/Chicago:20250819T180000
DTEND;TZID=America/Chicago:20250819T190000
DTSTAMP:20260422T014944
CREATED:20250802T194019Z
LAST-MODIFIED:20250802T194019Z
UID:10033011-1755626400-1755630000@plchutch.org
SUMMARY:6:00 Christian Education Meeting
DESCRIPTION:
URL:https://plchutch.org/event/600-christian-education-meeting/
LOCATION:Peace Lutheran Church\, 400 Franklin St. SW\, Hutchinson\, MN\, 55350\, United States
GEO:44.8873168;-94.3713681
X-APPLE-STRUCTURED-LOCATION;VALUE=URI;X-ADDRESS=Peace Lutheran Church 400 Franklin St. SW Hutchinson MN 55350 United States;X-APPLE-RADIUS=500;X-TITLE=400 Franklin St. SW:geo:-94.3713681,44.8873168
END:VEVENT
BEGIN:VEVENT
DTSTART;TZID=America/Chicago:20250819T180000
DTEND;TZID=America/Chicago:20250819T190000
DTSTAMP:20260422T014944
CREATED:20250809T215537Z
LAST-MODIFIED:20250809T215537Z
UID:10033013-1755626400-1755630000@plchutch.org
SUMMARY:6:00 Christian Education Meeting
DESCRIPTION:
URL:https://plchutch.org/event/600-christian-education-meeting-2/
LOCATION:Peace Lutheran Church\, 400 Franklin St. SW\, Hutchinson\, MN\, 55350\, United States
GEO:44.8873168;-94.3713681
X-APPLE-STRUCTURED-LOCATION;VALUE=URI;X-ADDRESS=Peace Lutheran Church 400 Franklin St. SW Hutchinson MN 55350 United States;X-APPLE-RADIUS=500;X-TITLE=400 Franklin St. SW:geo:-94.3713681,44.8873168
END:VEVENT
BEGIN:VEVENT
DTSTART;TZID=America/Chicago:20250819T183000
DTEND;TZID=America/Chicago:20250819T193000
DTSTAMP:20260422T014944
CREATED:20230817T164705Z
LAST-MODIFIED:20251204T153621Z
UID:10025881-1755628200-1755631800@plchutch.org
SUMMARY:6:30 Promise Keepers
DESCRIPTION:
URL:https://plchutch.org/event/630-promise-keepers-2/2025-08-19/
LOCATION:Peace Lutheran Church\, 400 Franklin St. SW\, Hutchinson\, MN\, 55350\, United States
GEO:44.8873168;-94.3713681
X-APPLE-STRUCTURED-LOCATION;VALUE=URI;X-ADDRESS=Peace Lutheran Church 400 Franklin St. SW Hutchinson MN 55350 United States;X-APPLE-RADIUS=500;X-TITLE=400 Franklin St. SW:geo:-94.3713681,44.8873168
END:VEVENT
BEGIN:VEVENT
DTSTART;TZID=America/Chicago:20250821T183000
DTEND;TZID=America/Chicago:20250821T210000
DTSTAMP:20260422T014944
CREATED:20250528T194952Z
LAST-MODIFIED:20250701T012907Z
UID:10032760-1755801000-1755810000@plchutch.org
SUMMARY:6:30 Trustees
DESCRIPTION:
URL:https://plchutch.org/event/700-trustees-3-2/2025-08-21/
LOCATION:Peace Lutheran Church\, 400 Franklin St. SW\, Hutchinson\, MN\, 55350\, United States
GEO:44.8873168;-94.3713681
X-APPLE-STRUCTURED-LOCATION;VALUE=URI;X-ADDRESS=Peace Lutheran Church 400 Franklin St. SW Hutchinson MN 55350 United States;X-APPLE-RADIUS=500;X-TITLE=400 Franklin St. SW:geo:-94.3713681,44.8873168
END:VEVENT
BEGIN:VEVENT
DTSTART;TZID=America/Chicago:20250823T063000
DTEND;TZID=America/Chicago:20250823T073000
DTSTAMP:20260422T014944
CREATED:20250730T135523Z
LAST-MODIFIED:20250730T161024Z
UID:10032908-1755930600-1755934200@plchutch.org
SUMMARY:6:45-7:45 Men's Bible Study
DESCRIPTION:
URL:https://plchutch.org/event/645-745-mens-bible-study-2/2025-08-23/
LOCATION:Peace Lutheran Church\, 400 Franklin St. SW\, Hutchinson\, MN\, 55350\, United States
GEO:44.8873168;-94.3713681
X-APPLE-STRUCTURED-LOCATION;VALUE=URI;X-ADDRESS=Peace Lutheran Church 400 Franklin St. SW Hutchinson MN 55350 United States;X-APPLE-RADIUS=500;X-TITLE=400 Franklin St. SW:geo:-94.3713681,44.8873168
END:VEVENT
BEGIN:VEVENT
DTSTART;TZID=America/Chicago:20250823T183000
DTEND;TZID=America/Chicago:20250823T193000
DTSTAMP:20260422T014944
CREATED:20250802T192250Z
LAST-MODIFIED:20250802T192250Z
UID:10032913-1755973800-1755977400@plchutch.org
SUMMARY:6:30 Worship
DESCRIPTION:
URL:https://plchutch.org/event/630-worship-18/2025-08-23/
LOCATION:Peace Lutheran Church\, 400 Franklin St. SW\, Hutchinson\, MN\, 55350\, United States
GEO:44.8873168;-94.3713681
X-APPLE-STRUCTURED-LOCATION;VALUE=URI;X-ADDRESS=Peace Lutheran Church 400 Franklin St. SW Hutchinson MN 55350 United States;X-APPLE-RADIUS=500;X-TITLE=400 Franklin St. SW:geo:-94.3713681,44.8873168
END:VEVENT
END:VCALENDAR